BEGIN:VCALENDAR
PRODID:NingEventWidget-v1
VERSION:2.0
METHOD:PUBLISH
BEGIN:VTIMEZONE
TZID:Europe/London
X-LIC-LOCATION:Europe/London
BEGIN:DAYLIGHT
TZOFFSETFROM:+0000
TZOFFSETTO:+0100
TZNAME:BST
DTSTART:19700329T010000
RRULE:FREQ=YEARLY;BYMONTH=3;BYDAY=-1SU
END:DAYLIGHT
BEGIN:STANDARD
TZOFFSETFROM:+0100
TZOFFSETTO:+0000
TZNAME:GMT
DTSTART:19701025T020000
RRULE:FREQ=YEARLY;BYMONTH=10;BYDAY=-1SU
END:STANDARD
END:VTIMEZONE
BEGIN:VEVENT
UID:6278630:Event:252503
DTSTAMP:20260424T045632Z
SUMMARY:🎤 London Vegan Mixer ~ social and karaoke
DESCRIPTION:\nMixing cocktails, tunes... and vegans: join us at Karame
 l for a full-venue takeover to socialise over delicious food & drinks 
 and great performances!\n🎟️ Free entry, just RSVP! 🗓 Saturday 
 6 December 🕖 19:00 – midnight 📍 Karamel Club - 4 Coburg Rd, Lo
 ndon N22 6UJ 💬 Group chat in the London Vegan Network community on 
 WhatsApp\n🤗 Everyone’s welcome! It’s a safe, inclusive space wh
 ere no discrimination or abuse will be tolerated.\n🤤 The venue kind
 ly hosts us for free, so please support them by ordering some of the d
 elicious food and drinks from their fully vegan bar & kitchen.\n🚉 C
 losest stations: Wood Green and Alexandra Palace. ♿️ Step-free acc
 ess and a wheelchair-accessible toilet are available. 🐶 Dog-friendl
 y venue, so furry friends are welcome too!\n\n\nFor more information v
 isit https://bowesandbounds.org/events/london-vegan-mixer-social-amp-k
 araoke-1
DTSTART;TZID=Europe/London:20251206T190000
DTEND;TZID=Europe/London:20251207T000000
CATEGORIES:karaoke, mixer, "vegan food", "vegan venue"
LOCATION:karamel, 4 Coburg Road, Wood Green, London N22 6UJ
WEBSITE:https://www.musicglue.com/karamel/events/2025-12-06-london-veg
 an-mixer-social-and-karaoke-karamel
URL:https://www.musicglue.com/karamel/events/2025-12-06-london-vegan-m
 ixer-social-and-karaoke-karamel
CONTACT:
ORGANIZER;CN="Collage Artspaces":https://bowesandbounds.org/profile/Co
 llage_Arts
ATTACH;FMTTYPE="image/jpeg":https://storage.ning.com/topology/rest/1.0
 /file/get/31003112060?profile=original
ATTENDEE;ROLE=REQ-PARTICIPANT;PARTSTAT=ACCEPTED;RSVP=TRUE;CN="Collage 
 Artspaces":https://bowesandbounds.org/profile/Collage_Arts
END:VEVENT
END:VCALENDAR
