BEGIN:VCALENDAR
PRODID:NingEventWidget-v1
VERSION:2.0
METHOD:PUBLISH
BEGIN:VTIMEZONE
TZID:Europe/London
X-LIC-LOCATION:Europe/London
BEGIN:DAYLIGHT
TZOFFSETFROM:+0000
TZOFFSETTO:+0100
TZNAME:BST
DTSTART:19700329T010000
RRULE:FREQ=YEARLY;BYMONTH=3;BYDAY=-1SU
END:DAYLIGHT
BEGIN:STANDARD
TZOFFSETFROM:+0100
TZOFFSETTO:+0000
TZNAME:GMT
DTSTART:19701025T020000
RRULE:FREQ=YEARLY;BYMONTH=10;BYDAY=-1SU
END:STANDARD
END:VTIMEZONE
BEGIN:VEVENT
UID:6278630:Event:250873
DTSTAMP:20260419T191015Z
SUMMARY:London Vegan Mixer ~ social, live music, karaoke
DESCRIPTION:\nšø Mixing cocktails, tunes... and vegans! š±\nšļø
  Entry: totally free, just RSVP! š Date: Saturday, 26 July 2025 š
  Time: 7:00 PM ā midnight š Location: Karamel Club - 4 Coburg R
 d, London N22 6UJ\nš¬ Join our group chat in the London Vegan Networ
 k community on WhatsApp\nšŖ© London Vegan Mixer is a fabulously fun n
 ight at Karamel, where we'll take over the entire venue to socialise a
 nd enjoy food, drinks, and great performances.\nšø During the first 
 part of the evening, some of our regulars will play live, and they're 
 always happy for other musicians to join them on stage.\nš§āš¤ S
 tarting around 9 PM, KaraoChris will host karaoke for the rest of the 
 event: sign up to sing your heart out!\nš¤¤ The venue has a 100% vega
 n kitchen and bar. They're kindly hosting us for free, so please make 
 sure to buy some of their delicious food and drinks to show your suppo
 rt.\nš¤ All are welcome, and we strive to make the event a safe and 
 inclusive space for everyone: no discriminatory or abusive behaviour o
 f any kind will be tolerated. Please let the hosts know if you or othe
 rs feel uncomfortable because of an attendee.\nš Karamel is a short
  walk from either Wood Green underground station (Piccadilly Line) or 
 Alexandra Palace train station (Great Northern services from Moorgate 
 via Finsbury Park), and the area is also served by many bus lines.\nā
 æļø The entrance to the venue is step-free and there is a wheelchair-
 accessible toilet.\nš¶ The venue is dog-friendly, so feel free to br
 ing your furry friends if they'll enjoy it.\nhttps://www.musicglue.com
 /karamel/events/2025-07-26-london-vegan-mixer-social-live-music-karaok
 e-karamel\n\nFor more information visit https://bowesandbounds.org/eve
 nts/london-vegan-mixer-social-live-music-karaoke-1
DTSTART;TZID=Europe/London:20250726T190000
DTEND;TZID=Europe/London:20250727T000000
CATEGORIES:karaoke, mixer, "vegan food", "vegan venue"
LOCATION:karamel, 4 Coburg Road, Wood Green, London N22 6UJ
WEBSITE:https://www.musicglue.com/karamel/events/2025-07-26-london-veg
 an-mixer-social-live-music-karaoke-karamel
URL:https://www.musicglue.com/karamel/events/2025-07-26-london-vegan-m
 ixer-social-live-music-karaoke-karamel
CONTACT:
ORGANIZER;CN="Collage Artspaces":https://bowesandbounds.org/profile/Co
 llage_Arts
ATTACH;FMTTYPE="image/jpeg":https://storage.ning.com/topology/rest/1.0
 /file/get/13581137859?profile=original
ATTENDEE;ROLE=REQ-PARTICIPANT;PARTSTAT=ACCEPTED;RSVP=TRUE;CN="Collage 
 Artspaces":https://bowesandbounds.org/profile/Collage_Arts
END:VEVENT
END:VCALENDAR
