BEGIN:VCALENDAR
PRODID:NingEventWidget-v1
VERSION:2.0
METHOD:PUBLISH
BEGIN:VTIMEZONE
TZID:Europe/London
X-LIC-LOCATION:Europe/London
BEGIN:DAYLIGHT
TZOFFSETFROM:+0000
TZOFFSETTO:+0100
TZNAME:BST
DTSTART:19700329T010000
RRULE:FREQ=YEARLY;BYMONTH=3;BYDAY=-1SU
END:DAYLIGHT
BEGIN:STANDARD
TZOFFSETFROM:+0100
TZOFFSETTO:+0000
TZNAME:GMT
DTSTART:19701025T020000
RRULE:FREQ=YEARLY;BYMONTH=10;BYDAY=-1SU
END:STANDARD
END:VTIMEZONE
BEGIN:VEVENT
UID:6278630:Event:251117
DTSTAMP:20260421T174112Z
SUMMARY:London Vegan Mixer: social + live music + karaoke
DESCRIPTION:\nDetails 🍸 Mixing cocktails, tunes... and vegans! 🌱
 \n🎟️ Entry: totally free, just RSVP! 🗓 Date: Saturday, 28 June
  2025 🕙 Time: 7:00 PM – midnight 📍 Location: Karamel Club - 4 
 Coburg Rd, London N22 6UJ\nLondon Vegan Mixer is a fabulously fun nigh
 t at Karamel, where we'll take over the entire venue to socialise and 
 enjoy food, drinks, and great performances.\n🎸 During the first par
 t of the evening, some of our regulars will play live, and they're alw
 ays happy for other musicians to join them on stage.\n🧑‍🎤 Star
 ting around 9 PM, the stage will be dedicated to karaoke for the rest 
 of the event: sign up to sing your heart out!\n🤤 The venue has a 10
 0% vegan kitchen and bar. They're kindly hosting us for free, so pleas
 e make sure to buy some of their delicious food and drinks to show you
 r support.\n🤗 All are welcome, and we strive to make the event a sa
 fe and inclusive space for everyone: no discriminatory or abusive beha
 viour of any kind will be tolerated. Please let the hosts know if you 
 or others feel uncomfortable because of an attendee.\n🚉 Karamel is 
 a short walk from either Wood Green underground station (Piccadilly Li
 ne) or Alexandra Palace train station (Great Northern services from Mo
 orgate via Finsbury Park), and the area is also served by many bus lin
 es.\n♿️ The entrance to the venue is step-free and there is a whee
 lchair-accessible toilet.\n🐶 The venue is dog-friendly, so feel fre
 e to bring your furry friends if they'll enjoy it.\n\nFor more informa
 tion visit https://bowesandbounds.org/events/london-vegan-mixer-social
 -live-music-karaoke
DTSTART;TZID=Europe/London:20250628T190000
DTEND;TZID=Europe/London:20250629T000000
CATEGORIES:karaoke, "live music", "vegan food", "vegan menu", "social 
 mixer"
LOCATION:karamel, 4 Coburg Road, Wood Green, London N22 6UJ
WEBSITE:https://www.musicglue.com/karamel/events/2025-06-28-london-veg
 an-mixer-social-plus-live-music-plus-karaoke-karamel
URL:https://www.musicglue.com/karamel/events/2025-06-28-london-vegan-m
 ixer-social-plus-live-music-plus-karaoke-karamel
CONTACT:
ORGANIZER;CN="Collage Artspaces":https://bowesandbounds.org/profile/Co
 llage_Arts
ATTACH;FMTTYPE="image/jpeg":https://storage.ning.com/topology/rest/1.0
 /file/get/13581137859?profile=original
ATTENDEE;ROLE=REQ-PARTICIPANT;PARTSTAT=ACCEPTED;RSVP=TRUE;CN="Collage 
 Artspaces":https://bowesandbounds.org/profile/Collage_Arts
END:VEVENT
END:VCALENDAR
