BEGIN:VCALENDAR
PRODID:NingEventWidget-v1
VERSION:2.0
METHOD:PUBLISH
BEGIN:VTIMEZONE
TZID:Europe/London
X-LIC-LOCATION:Europe/London
BEGIN:DAYLIGHT
TZOFFSETFROM:+0000
TZOFFSETTO:+0100
TZNAME:BST
DTSTART:19700329T010000
RRULE:FREQ=YEARLY;BYMONTH=3;BYDAY=-1SU
END:DAYLIGHT
BEGIN:STANDARD
TZOFFSETFROM:+0100
TZOFFSETTO:+0000
TZNAME:GMT
DTSTART:19701025T020000
RRULE:FREQ=YEARLY;BYMONTH=10;BYDAY=-1SU
END:STANDARD
END:VTIMEZONE
BEGIN:VEVENT
UID:6278630:Event:250655
DTSTAMP:20260423T173949Z
SUMMARY:London Vegan Mixer: social + open mic + karaoke
DESCRIPTION:\nMIXING COCKTAILS, TUNES... AND VEGANS!\n🎟️ Entry: t
 otally free, just RSVP! 🗓 Date: Saturday, 31 May 2025 🕙 Time: 7:
 00 PM – midnight 📍 Location: Karamel Club - 4 Coburg Rd, London N
 22 6UJ 💬 WhatsApp group: https://tinyurl.com/JoinLondonVeganMixer\n
 🪩 Join us for a fabulously fun night at Karamel, where we'll take o
 ver the entire venue: socialise in the restaurant area over food and d
 rinks, or showcase your talents on stage! (There will always be a seat
 ing area dedicated to quieter conversations.)\n🍔 THE FOOD Karamel's
  fully vegan menu varies every time! The selection for the night will 
 be announced on a blackboard. It usually includes a few daily specials
  as well as staples like burgers, pizzas, and a variety of delicious s
 ides and desserts.\n🍹 THE DRINKS Beer on tap, wine by the glass, an
 d a selection of cocktails and mocktails: Karamel's fully vegan bar ha
 s something for every taste.\n👩‍🎤 THE MUSIC The first part of 
 the evening will feature an open mic night where anyone is welcome to 
 showcase their talents (musical or otherwise), opened by Mixer regular
  Alfie Paca 🦙\nStarting around 9 PM, KaraoChris will host karaoke f
 or the rest of the night: sign up to jump on stage and sing your heart
  out! Karamel have kindly offered a meal for two as a prize for the be
 st singer.\n🤗 ATTENDING Entry to the event is totally free, but ple
 ase do support the venue by buying some of their delicious food and dr
 inks (both 100% vegan!).\nAll are welcome, and we strive to make the e
 vent a safe and inclusive space for everyone - no discriminatory or ab
 usive behaviour of any kind will be tolerated.\n🌱 THE VENUE Karamel
  is a very short walk from Wood Green Tube station (Piccadilly Line). 
 The entrance to the venue is step-free and there is a wheelchair-acces
 sible toilet. Karamel is dog-friendly, so feel free to bring your furr
 y friends if they'll enjoy it.\nOriginally founded and run by vegan ac
 tivists, today it’s operated by Collage Arts (a charity supporting t
 he local community) and managed by the lovely Kath who, together with 
 her charming husband Roger, also prepares the delicious homemade food 
 served there… in very generous portions 😉 and at fairly affordabl
 e prices!\nFor well over a decade now, Karamel has been at the heart o
 f London’s vegan community, helping it reach its current size - for 
 example:\ngiving a new home to London Vegan Drinks (Europe’s largest
  vegan social gathering at the time!) when it outgrew its preceding ve
 nues providing a welcoming environment for LGBTQ+ vegans (inclusivity 
 and safeguarding having always been a central tenet of theirs) with Fa
 t Gay Vegan's Queer Vegan Disco throwing official or de facto afterpar
 ties for many Animal Rights marches and protests Nowadays, they host o
 ur sister event, the regular board game event Geekstraveganza (as they
 ’ve done since its inception in 2016), and a lot of other wonderful 
 events for the local area and the wider London vegan community.\n\nFor
  more information visit https://bowesandbounds.org/events/london-vegan
 -mixer-social-open-mic-karaoke
DTSTART;TZID=Europe/London:20250531T190000
DTEND;TZID=Europe/London:20250601T000000
CATEGORIES:open-mic, "vegan venue", "vegan food", mixer
LOCATION:karamel, 4 Coburg Road, Wood Green, London N22 6UJ
WEBSITE:https://www.musicglue.com/karamel/events/2025-05-31-london-veg
 an-mixer-social-plus-open-mic-plus-karaoke-karamel
URL:https://www.musicglue.com/karamel/events/2025-05-31-london-vegan-m
 ixer-social-plus-open-mic-plus-karaoke-karamel
CONTACT:
ORGANIZER;CN="Collage Artspaces":https://bowesandbounds.org/profile/Co
 llage_Arts
ATTACH;FMTTYPE="image/jpeg":https://storage.ning.com/topology/rest/1.0
 /file/get/13554238869?profile=original
ATTENDEE;ROLE=REQ-PARTICIPANT;PARTSTAT=ACCEPTED;RSVP=TRUE;CN="Collage 
 Artspaces":https://bowesandbounds.org/profile/Collage_Arts
END:VEVENT
END:VCALENDAR
