BEGIN:VCALENDAR
PRODID:NingEventWidget-v1
VERSION:2.0
METHOD:PUBLISH
BEGIN:VTIMEZONE
TZID:Europe/London
X-LIC-LOCATION:Europe/London
BEGIN:DAYLIGHT
TZOFFSETFROM:+0000
TZOFFSETTO:+0100
TZNAME:BST
DTSTART:19700329T010000
RRULE:FREQ=YEARLY;BYMONTH=3;BYDAY=-1SU
END:DAYLIGHT
BEGIN:STANDARD
TZOFFSETFROM:+0100
TZOFFSETTO:+0000
TZNAME:GMT
DTSTART:19701025T020000
RRULE:FREQ=YEARLY;BYMONTH=10;BYDAY=-1SU
END:STANDARD
END:VTIMEZONE
BEGIN:VEVENT
UID:6278630:Event:103484
DTSTAMP:20260419T150403Z
SUMMARY:Love For Sale at Mum's Bistro
DESCRIPTION:Following their Sunday afternoon appearances at Myddleton 
 Road Market and monthly evenings at Mum's, Love For Sale bring their B
 lue Note jazz back to Bowes and Bounds on a Sunday afternoon at Mum's 
 for the first time. Catch your breath and refresh your soul before the
  weekly grind returns on Monday.\n\nFor more information visit https:/
 /bowesandbounds.org/events/love-for-sale-at-mum-s-bistro-2
DTSTART;TZID=Europe/London:20151115T140000
DTEND;TZID=Europe/London:20151115T170000
CATEGORIES:music, jazz
LOCATION:Myddleton Road
WEBSITE:http://www.mums-bistro.co.uk/
URL:http://www.mums-bistro.co.uk/
CONTACT:
ORGANIZER;CN="John Hartley":https://bowesandbounds.org/profile/JohnHar
 tley
ATTACH;FMTTYPE="image/jpeg":http://storage.ning.com/topology/rest/1.0/
 file/get/2287293989?profile=original
ATTENDEE;ROLE=REQ-PARTICIPANT;PARTSTAT=ACCEPTED;RSVP=TRUE;CN="John Har
 tley":https://bowesandbounds.org/profile/JohnHartley
END:VEVENT
END:VCALENDAR
