BEGIN:VCALENDAR
PRODID:NingEventWidget-v1
VERSION:2.0
METHOD:PUBLISH
BEGIN:VTIMEZONE
TZID:Europe/London
X-LIC-LOCATION:Europe/London
BEGIN:DAYLIGHT
TZOFFSETFROM:+0000
TZOFFSETTO:+0100
TZNAME:BST
DTSTART:19700329T010000
RRULE:FREQ=YEARLY;BYMONTH=3;BYDAY=-1SU
END:DAYLIGHT
BEGIN:STANDARD
TZOFFSETFROM:+0100
TZOFFSETTO:+0000
TZNAME:GMT
DTSTART:19701025T020000
RRULE:FREQ=YEARLY;BYMONTH=10;BYDAY=-1SU
END:STANDARD
END:VTIMEZONE
BEGIN:VEVENT
UID:6278630:Event:63051
DTSTAMP:20260425T165309Z
SUMMARY:Love Parks Week events in Broomfield Park
DESCRIPTION:The friends of Broomfield Park are celebrating Love Parks
  Week from 27th July – 4th August.\nThere will be special events for
  young and old in the Orchard, the Conservatory will open every aftern
 oon, and the Palmers Greenery Café will pop up twice. Follow the link
  for details of Broomfield Park  Love Parks Week events.\n\nFor more 
 information visit https://bowesandbounds.org/events/love-parks-week-ev
 ents-in-broomfield-park
DTSTART;TZID=Europe/London:20130727T000000
DTEND;TZID=Europe/London:20130804T235900
CATEGORIES:"community event", festival
LOCATION:Broomfield Park
WEBSITE:http://www.friendsofbroomfieldpark.org/loveparksweekevents.php
URL:http://www.friendsofbroomfieldpark.org/loveparksweekevents.php
CONTACT:
ORGANIZER;CN="Richard McKeever":https://bowesandbounds.org/profile/3hw
 xkqhdde8gc
ATTACH;FMTTYPE="image/jpeg":http://storage.ning.com/topology/rest/1.0/
 file/get/2287251753?profile=original
ATTENDEE;ROLE=REQ-PARTICIPANT;PARTSTAT=ACCEPTED;RSVP=TRUE;CN="Richard 
 McKeever":https://bowesandbounds.org/profile/3hwxkqhdde8gc
END:VEVENT
END:VCALENDAR
