BEGIN:VCALENDAR
PRODID:NingEventWidget-v1
VERSION:2.0
METHOD:PUBLISH
BEGIN:VTIMEZONE
TZID:Europe/London
X-LIC-LOCATION:Europe/London
BEGIN:DAYLIGHT
TZOFFSETFROM:+0000
TZOFFSETTO:+0100
TZNAME:BST
DTSTART:19700329T010000
RRULE:FREQ=YEARLY;BYMONTH=3;BYDAY=-1SU
END:DAYLIGHT
BEGIN:STANDARD
TZOFFSETFROM:+0100
TZOFFSETTO:+0000
TZNAME:GMT
DTSTART:19701025T020000
RRULE:FREQ=YEARLY;BYMONTH=10;BYDAY=-1SU
END:STANDARD
END:VTIMEZONE
BEGIN:VEVENT
UID:6278630:Event:131176
DTSTAMP:20260424T214904Z
SUMMARY:Lovers Splash II
DESCRIPTION:Kwashie!™ in association with the Karamel Presents...\nL
 overs Splash II\n'the lovers rockers' event of the Summer!\nfeaturing:
 \nJune ‘Miss Sparkle’ Furlong (Solar Radio/Sky Ch:0129)\nMister Qu
 ick Shot (the rapid-fire lovers selector)\nThe Dub$tealers (bashment &
  revival)\nSaturday 23rd June 2018 9pm-2am\nAdmission £6 on the door\
 nThe Karamel 4 Coburg Road London N22 6UJ\nDefinition of Lovers Rock: 
 Uniquely British love-themed Reggae, popularised by artists such as Ca
 rroll Thomson, Janet Kay, Maxi Priest, also recorded by the Jamaican g
 reats, Dennis Brown, Gregory Isaacs, John Holt etc.\nCheck here for mo
 re details.\n\nFor more information visit https://bowesandbounds.org/e
 vents/lovers-splash-ii
DTSTART;TZID=Europe/London:20180623T210000
DTEND;TZID=Europe/London:20180624T020000
CATEGORIES:"lovers rock", ska, reggae, live, music, haringey, "wood gr
 een", vegan, family-friendly
LOCATION:Karamel London N22
WEBSITE:http://www.karamel.london
URL:http://www.karamel.london
CONTACT:020 8829 8989
ORGANIZER;CN="Alan Drummer":https://bowesandbounds.org/profile/AlanDru
 mmer
ATTACH;FMTTYPE="image/jpeg":
ATTENDEE;ROLE=REQ-PARTICIPANT;PARTSTAT=ACCEPTED;RSVP=TRUE;CN="Alan Dru
 mmer":https://bowesandbounds.org/profile/AlanDrummer
END:VEVENT
END:VCALENDAR
