BEGIN:VCALENDAR
PRODID:NingEventWidget-v1
VERSION:2.0
METHOD:PUBLISH
BEGIN:VTIMEZONE
TZID:Europe/London
X-LIC-LOCATION:Europe/London
BEGIN:DAYLIGHT
TZOFFSETFROM:+0000
TZOFFSETTO:+0100
TZNAME:BST
DTSTART:19700329T010000
RRULE:FREQ=YEARLY;BYMONTH=3;BYDAY=-1SU
END:DAYLIGHT
BEGIN:STANDARD
TZOFFSETFROM:+0100
TZOFFSETTO:+0000
TZNAME:GMT
DTSTART:19701025T020000
RRULE:FREQ=YEARLY;BYMONTH=10;BYDAY=-1SU
END:STANDARD
END:VTIMEZONE
BEGIN:VEVENT
UID:6278630:Event:51866
DTSTAMP:20260419T162850Z
SUMMARY:Lunchtime Talk: Easy Energy Saving
DESCRIPTION:Mary Blake of the Muswell Hill Sustainability Group talks
  about cutting your fuel costs.\nCome along and find out how to make 
 your home more energy-efficient, comfortable, and cheap to run.\nTuesd
 ay 29th January, 12.00pm\n  More Information\nAlexandra Park Library 
 Alexandra Park Road London N22 7UJ 0208 489 8770\n\nFor more informati
 on visit https://bowesandbounds.org/events/lunchtime-talk-easy-energy-
 saving
DTSTART;TZID=Europe/London:20130129T120000
DTEND;TZID=Europe/London:20130129T133000
CATEGORIES:talk, "public meeting"
LOCATION:Alexandra Park Library
WEBSITE:http://www.haringey.gov.uk/index/community_and_leisure/librari
 es/findalibrary/alexandraparklibrary.htm
URL:http://www.haringey.gov.uk/index/community_and_leisure/libraries/f
 indalibrary/alexandraparklibrary.htm
CONTACT:
ORGANIZER;CN=Administrator:https://bowesandbounds.org/profile/Administ
 rator
ATTACH;FMTTYPE="image/jpeg":http://storage.ning.com/topology/rest/1.0/
 file/get/2287241428?profile=original
ATTENDEE;ROLE=REQ-PARTICIPANT;PARTSTAT=ACCEPTED;RSVP=TRUE;CN=Administr
 ator:https://bowesandbounds.org/profile/Administrator
END:VEVENT
END:VCALENDAR
