BEGIN:VCALENDAR
PRODID:NingEventWidget-v1
VERSION:2.0
METHOD:PUBLISH
BEGIN:VTIMEZONE
TZID:Europe/London
X-LIC-LOCATION:Europe/London
BEGIN:DAYLIGHT
TZOFFSETFROM:+0000
TZOFFSETTO:+0100
TZNAME:BST
DTSTART:19700329T010000
RRULE:FREQ=YEARLY;BYMONTH=3;BYDAY=-1SU
END:DAYLIGHT
BEGIN:STANDARD
TZOFFSETFROM:+0100
TZOFFSETTO:+0000
TZNAME:GMT
DTSTART:19701025T020000
RRULE:FREQ=YEARLY;BYMONTH=10;BYDAY=-1SU
END:STANDARD
END:VTIMEZONE
BEGIN:VEVENT
UID:6278630:Event:138312
DTSTAMP:20260423T184001Z
SUMMARY:MacQueen and Friends at Bowes Park Folk Club
DESCRIPTION:Julian MacQueen, daughter, Georgia MacQueen Black, and fri
 ends bring us country-flavoured local music in a global world. Bounds 
 Green tube (Piccadilly Line) - 10 minutes' walk Bowes Park overground 
 station - 1 minute's walk Â£6 entry Come early for a Mediterranean-ins
 pired menu if you'd like to eat there.Â http://www.bowesandbounds.orgÂ
  \n\nFor more information visit https://bowesandbounds.org/events/macq
 ueen-amp-friends-at-bowes-park-folk-club
DTSTART;TZID=Europe/London:20190905T194500
DTEND;TZID=Europe/London:20190905T230000
CATEGORIES:folk, club
LOCATION:Mum's Bistro,
WEBSITE:
URL:
CONTACT:07774147296
ORGANIZER;CN="Anne Heagney":https://bowesandbounds.org/profile/AnneHea
 gney
ATTACH;FMTTYPE="image/jpeg":https://storage.ning.com/topology/rest/1.0
 /file/get/3433310363?profile=original
ATTENDEE;ROLE=REQ-PARTICIPANT;PARTSTAT=ACCEPTED;RSVP=TRUE;CN="Anne Hea
 gney":https://bowesandbounds.org/profile/AnneHeagney
END:VEVENT
END:VCALENDAR
