BEGIN:VCALENDAR
PRODID:NingEventWidget-v1
VERSION:2.0
METHOD:PUBLISH
BEGIN:VTIMEZONE
TZID:Europe/London
X-LIC-LOCATION:Europe/London
BEGIN:DAYLIGHT
TZOFFSETFROM:+0000
TZOFFSETTO:+0100
TZNAME:BST
DTSTART:19700329T010000
RRULE:FREQ=YEARLY;BYMONTH=3;BYDAY=-1SU
END:DAYLIGHT
BEGIN:STANDARD
TZOFFSETFROM:+0100
TZOFFSETTO:+0000
TZNAME:GMT
DTSTART:19701025T020000
RRULE:FREQ=YEARLY;BYMONTH=10;BYDAY=-1SU
END:STANDARD
END:VTIMEZONE
BEGIN:VEVENT
UID:6278630:Event:59104
DTSTAMP:20260425T005303Z
SUMMARY:Magical Musical Cabaret
DESCRIPTION:Roll up, roll up for an extraordinary night of entertainme
 nt to enlighten and enjoy! We have an array of amazing talent in store
  for your delectation and delight on Saturday 11th May.\nTime: Doors a
 t 6pm & performance at 8.15pm – last admittance is 8pm.\nPrice: £5 
 advance or £7 on the door\nFood: Our delicious homemade menu will be 
 available to order before the show and the bar will remain open after 
 the performance until 11pm. To see a sample menu click here – we wil
 l have a special pre-performance meal offer – any main meal and a bo
 ttle of house wine for £29!\nSeating: If you would like to reserve a 
 table for dinner please email or call us to book. All other seating is
  unreserved.\nTickets: Buy tickets online by CLICKING HERE or give us 
 a call on 020 3302 2412 or just pop into The Step!\n\nSUSAN BLACK SING
 S PIAF Susan Black’s one-woman tribute to the legendary Edith Piaf b
 rings to light just how well her timeless songs translate across genre
 s and generations.\n\nJENNY LOCKYER Jenny likes singing songs that mak
 e people laugh. She also likes singing songs that make people go, ‘M
 mmm’ in a contemplative and happy kind of way.\n\nWAYNE THE WEIRD Wa
 yne is the master of stupidity and nonchalance! He has been entertaini
 ng audiences with his conjuring comedy up, down, left and right of the
  British Isles for the last couple of years.\n\n\n\nFor more informati
 on visit https://bowesandbounds.org/events/magical-musical-cabaret
DTSTART;TZID=Europe/London:20130511T190000
DTEND;TZID=Europe/London:20130511T230000
CATEGORIES:cabaret, music, gig, live
LOCATION:The Step
WEBSITE:http://www.thestep.co.uk
URL:http://www.thestep.co.uk
CONTACT:020 3302 2412
ORGANIZER;CN="Nell Riches":https://bowesandbounds.org/profile/NellRich
 es
ATTACH;FMTTYPE="image/jpeg":http://storage.ning.com/topology/rest/1.0/
 file/get/2287238339?profile=original
ATTENDEE;ROLE=REQ-PARTICIPANT;PARTSTAT=ACCEPTED;RSVP=TRUE;CN="Nell Ric
 hes":https://bowesandbounds.org/profile/NellRiches
END:VEVENT
END:VCALENDAR
