BEGIN:VCALENDAR
PRODID:NingEventWidget-v1
VERSION:2.0
METHOD:PUBLISH
BEGIN:VTIMEZONE
TZID:Europe/London
X-LIC-LOCATION:Europe/London
BEGIN:DAYLIGHT
TZOFFSETFROM:+0000
TZOFFSETTO:+0100
TZNAME:BST
DTSTART:19700329T010000
RRULE:FREQ=YEARLY;BYMONTH=3;BYDAY=-1SU
END:DAYLIGHT
BEGIN:STANDARD
TZOFFSETFROM:+0100
TZOFFSETTO:+0000
TZNAME:GMT
DTSTART:19701025T020000
RRULE:FREQ=YEARLY;BYMONTH=10;BYDAY=-1SU
END:STANDARD
END:VTIMEZONE
BEGIN:VEVENT
UID:6278630:Event:95201
DTSTAMP:20260422T020920Z
SUMMARY:Magna Carta Tea Party
DESCRIPTION:Please join us at a tea party to celebrate the signing of 
 the Magna Carta.on Sunday 14th June from 2.30 til 3.30pm\n\n\n\nFor mo
 re information visit https://bowesandbounds.org/events/magna-carta-tea
 -party
DTSTART;TZID=Europe/London:20150614T143000
DTEND;TZID=Europe/London:20150614T153000
CATEGORIES:free, event
LOCATION:Alexandra park Library
WEBSITE:
URL:
CONTACT:
ORGANIZER;CN="soulla katsiani":https://bowesandbounds.org/profile/soul
 lakatsiani
ATTACH;FMTTYPE="image/jpeg":
ATTENDEE;ROLE=REQ-PARTICIPANT;PARTSTAT=ACCEPTED;RSVP=TRUE;CN="soulla k
 atsiani":https://bowesandbounds.org/profile/soullakatsiani
END:VEVENT
END:VCALENDAR
