BEGIN:VCALENDAR
PRODID:NingEventWidget-v1
VERSION:2.0
METHOD:PUBLISH
BEGIN:VTIMEZONE
TZID:Europe/London
X-LIC-LOCATION:Europe/London
BEGIN:DAYLIGHT
TZOFFSETFROM:+0000
TZOFFSETTO:+0100
TZNAME:BST
DTSTART:19700329T010000
RRULE:FREQ=YEARLY;BYMONTH=3;BYDAY=-1SU
END:DAYLIGHT
BEGIN:STANDARD
TZOFFSETFROM:+0100
TZOFFSETTO:+0000
TZNAME:GMT
DTSTART:19701025T020000
RRULE:FREQ=YEARLY;BYMONTH=10;BYDAY=-1SU
END:STANDARD
END:VTIMEZONE
BEGIN:VEVENT
UID:6278630:Event:121499
DTSTAMP:20260419T214042Z
SUMMARY:Make Votes Matter meeting - special guest Catherine West MP
DESCRIPTION:\nCatherine West - Labour MP for Hornsey and Wood Green - 
 will join this meeting of Make Votes Matter North London to discuss he
 r position on Proportional Representation. All supporters are welcome 
 to attend - particularly Hornsey & Wood Green constituents!\nMake Vote
 s Matter is a democratically organised, activist-led, cross-party cam
 paign, working to introduce Proportional Representation to the House o
 f Commons by 2021.\nWe are holding our next meeting to discuss practic
 al local ways to help reform the UK voting system. We believe our curr
 ent system is undemocratic.\nTime: 6.30 - 8.30pm\nAddress : Friends Me
 eting House, Church Crescent, Muswell Hill, London N10 3NE\nDirections
  - the venue is about 10 min walk from Highgate tube, and pretty much 
 opposite Highgate Woods.\nTransport: Buses: 43 and 134 to Cranley Gard
 ens, 102 and 234 to St James Church, W7, 144 and 299 to Muswell Hill B
 roadway. Station: Highgate (Northern Line), 10 minutes walk or take 43
  or 134 bus.\nTea & coffee provided\nFacebook group: Make Votes Matte
 r\nTwitter: @MakeVotesMatter\nWebsite: www.makevotesmatter.org.uk\nC
 ontact: Surrinder Chera surrinderc@hotmail.co.uk\n\nFor more informati
 on visit https://bowesandbounds.org/events/make-votes-matter-meeting-s
 pecial-guest-catherine-west-mp
DTSTART;TZID=Europe/London:20170314T183000
DTEND;TZID=Europe/London:20170314T203000
CATEGORIES:political
LOCATION:Friends Meeting House, Muswell Hill
WEBSITE:https://www.google.com/maps/place/Friends+Meeting+House,+Churc
 h+Cres,+London+N10+3NE,+UK/@51.587203,-0.145009,16z/data=!4m5!3m4!1s0x
 48761a3242ae1c4b:0xc110201b89f1381a!8m2!3d51.5872134!4d-0.1450413?hl=e
 n-GB
URL:https://www.google.com/maps/place/Friends+Meeting+House,+Church+Cr
 es,+London+N10+3NE,+UK/@51.587203,-0.145009,16z/data=!4m5!3m4!1s0x4876
 1a3242ae1c4b:0xc110201b89f1381a!8m2!3d51.5872134!4d-0.1450413?hl=en-GB
CONTACT:
ORGANIZER;CN="Basil Clarke":https://bowesandbounds.org/profile/BasilCl
 arke
ATTACH;FMTTYPE="image/jpeg":
ATTENDEE;ROLE=REQ-PARTICIPANT;PARTSTAT=ACCEPTED;RSVP=TRUE;CN="Basil Cl
 arke":https://bowesandbounds.org/profile/BasilClarke
END:VEVENT
END:VCALENDAR
