BEGIN:VCALENDAR
PRODID:NingEventWidget-v1
VERSION:2.0
METHOD:PUBLISH
BEGIN:VTIMEZONE
TZID:Europe/London
X-LIC-LOCATION:Europe/London
BEGIN:DAYLIGHT
TZOFFSETFROM:+0000
TZOFFSETTO:+0100
TZNAME:BST
DTSTART:19700329T010000
RRULE:FREQ=YEARLY;BYMONTH=3;BYDAY=-1SU
END:DAYLIGHT
BEGIN:STANDARD
TZOFFSETFROM:+0100
TZOFFSETTO:+0000
TZNAME:GMT
DTSTART:19701025T020000
RRULE:FREQ=YEARLY;BYMONTH=10;BYDAY=-1SU
END:STANDARD
END:VTIMEZONE
BEGIN:VEVENT
UID:6278630:Event:107306
DTSTAMP:20260419T155639Z
SUMMARY:Mapping Textiles: Dorcas Stories and Narratives in the Front R
 oom
DESCRIPTION:What was a Dorcas Society? Rose Sinclair, Lecturer and aut
 hor of Textiles at Goldsmith's, University of London, will tell us mor
 e .......Founded by upper class women in churches in the 19th century 
 to help make clothes for poor people, or to support women to become se
 lf-sufficient through the skill of working with a needle. During the 1
 950s and 1960s, Caribbean women in London would meet in their Front Ro
 oms. The Clubs and Societies were a support network, where textiles fo
 rmed the link.\nThis talk discusses the hidden histories of Dorcas Soc
 ieties in London and around Haringey. Rose Sinclair considers the text
 iles created by the Caribbean women of the 1950s and 1960s and their c
 ontribution to a British textiles aesthetic, through the ‘gift’ of
  textiles.\nDoors open at 7pm. Refreshments available.\n\nFor more inf
 ormation visit https://bowesandbounds.org/events/mapping-textiles-dorc
 as-stories-and-narratives-in-the-front-room
DTSTART;TZID=Europe/London:20160224T193000
DTEND;TZID=Europe/London:20160224T210000
CATEGORIES:local, history, talk
LOCATION:Bruce Castle Museum, Lordship Lane, Tottenham
WEBSITE:http://www.haringey.gov.uk/brucecastlemuseum
URL:http://www.haringey.gov.uk/brucecastlemuseum
CONTACT:020 8808 8772
ORGANIZER;CN="Deborah Hedgecock":https://bowesandbounds.org/profile/De
 borahHedgecock
ATTACH;FMTTYPE="image/jpeg":http://storage.ning.com/topology/rest/1.0/
 file/get/2287304902?profile=original
ATTENDEE;ROLE=REQ-PARTICIPANT;PARTSTAT=ACCEPTED;RSVP=TRUE;CN="Deborah 
 Hedgecock":https://bowesandbounds.org/profile/DeborahHedgecock
END:VEVENT
END:VCALENDAR
