BEGIN:VCALENDAR
PRODID:NingEventWidget-v1
VERSION:2.0
METHOD:PUBLISH
BEGIN:VTIMEZONE
TZID:Europe/London
X-LIC-LOCATION:Europe/London
BEGIN:DAYLIGHT
TZOFFSETFROM:+0000
TZOFFSETTO:+0100
TZNAME:BST
DTSTART:19700329T010000
RRULE:FREQ=YEARLY;BYMONTH=3;BYDAY=-1SU
END:DAYLIGHT
BEGIN:STANDARD
TZOFFSETFROM:+0100
TZOFFSETTO:+0000
TZNAME:GMT
DTSTART:19701025T020000
RRULE:FREQ=YEARLY;BYMONTH=10;BYDAY=-1SU
END:STANDARD
END:VTIMEZONE
BEGIN:VEVENT
UID:6278630:Event:104859
DTSTAMP:20260423T212419Z
SUMMARY:Martial arts beginners class
DESCRIPTION:Alexandra Park BJJ will be running a 4 week introductory c
 ourse in January 2016. It will cover all the basic skills and movement
 s of Brazilian Jiu Jitsu.  The course enables you to develop your fitn
 ess levels, balance, coordination and flexibility develop in a no-pres
 sure environment and provides the opportunity to start a new sport at 
 a reasonable price with like minded beginners.    Brazilian Jiu Jitsu
  (BJJ) is a full contact martial art, combat sport, and a self defence
  system that focuses on grappling and especially ground fighting.  Ale
 xandra Park BJJ offers Brazilian Jiu Jitsu classes for all levels. Ale
 xandra Park BJJ is an affiliate of the world famous Nova Geracao BJJ t
 eam.   Course will run on Thursdays 7.30pm-9.00pm at Alexandra Park S
 chool, Rhodes Avenue, London, N22 7UT.  All Participants at Alexandra 
 Park BJJ are expected to sign up to our code of conduct and an insuran
 ce waiver.  Prices:  £25 per person £20 per person with concessions\
 n\nFor more information visit https://bowesandbounds.org/events/martia
 l-arts-beginners-class
DTSTART;TZID=Europe/London:20160107T193000
DTEND;TZID=Europe/London:20160128T193000
CATEGORIES:course
LOCATION:Alexandra Park School
WEBSITE:https://www.facebook.com/events/731493373662329/
URL:https://www.facebook.com/events/731493373662329/
CONTACT:
ORGANIZER;CN="Fed Ra":https://bowesandbounds.org/profile/FedRa
ATTACH;FMTTYPE="image/jpeg":http://storage.ning.com/topology/rest/1.0/
 file/get/2287301309?profile=original
ATTENDEE;ROLE=REQ-PARTICIPANT;PARTSTAT=ACCEPTED;RSVP=TRUE;CN="Fed Ra":
 https://bowesandbounds.org/profile/FedRa
END:VEVENT
END:VCALENDAR
