BEGIN:VCALENDAR
PRODID:NingEventWidget-v1
VERSION:2.0
METHOD:PUBLISH
BEGIN:VTIMEZONE
TZID:Europe/London
X-LIC-LOCATION:Europe/London
BEGIN:DAYLIGHT
TZOFFSETFROM:+0000
TZOFFSETTO:+0100
TZNAME:BST
DTSTART:19700329T010000
RRULE:FREQ=YEARLY;BYMONTH=3;BYDAY=-1SU
END:DAYLIGHT
BEGIN:STANDARD
TZOFFSETFROM:+0100
TZOFFSETTO:+0000
TZNAME:GMT
DTSTART:19701025T020000
RRULE:FREQ=YEARLY;BYMONTH=10;BYDAY=-1SU
END:STANDARD
END:VTIMEZONE
BEGIN:VEVENT
UID:6278630:Event:246096
DTSTAMP:20260420T004454Z
SUMMARY:Martials Arts Course for beginners
DESCRIPTION:Alexandra Park BJJ will be running a 4-week introductory 
 martial arts course in January 2024(TBC). It will cover all the basic 
 skills and movements of Brazilian Jiu-Jitsu. This course is open to an
 yone over the age of 12.\nThe BJJ course enables you to develop your f
 itness levels, balance, coordination and flexibility in a no-pressure 
 environment and provides the opportunity to start a new sport at a rea
 sonable price with like-minded beginners.\n\nFor more information visi
 t https://bowesandbounds.org/events/martials-arts-course-for-beginners
DTSTART;TZID=Europe/London:20240113T130000
DTEND;TZID=Europe/London:20240202T130000
CATEGORIES:martial, arts, bjj
LOCATION:Alexandra Park School
WEBSITE:https://www.eventbrite.co.uk/e/martials-arts-course-for-beginn
 ers-bjj-brazilian-jiu-jitsu-tickets-738109313827?aff=erelexpmlt
URL:https://www.eventbrite.co.uk/e/martials-arts-course-for-beginners-
 bjj-brazilian-jiu-jitsu-tickets-738109313827?aff=erelexpmlt
CONTACT:
ORGANIZER;CN=n10bjj:https://bowesandbounds.org/profile/n10bjj
ATTACH;FMTTYPE="image/jpeg":
ATTENDEE;ROLE=REQ-PARTICIPANT;PARTSTAT=ACCEPTED;RSVP=TRUE;CN=n10bjj:ht
 tps://bowesandbounds.org/profile/n10bjj
END:VEVENT
END:VCALENDAR
