BEGIN:VCALENDAR
PRODID:NingEventWidget-v1
VERSION:2.0
METHOD:PUBLISH
BEGIN:VTIMEZONE
TZID:Europe/London
X-LIC-LOCATION:Europe/London
BEGIN:DAYLIGHT
TZOFFSETFROM:+0000
TZOFFSETTO:+0100
TZNAME:BST
DTSTART:19700329T010000
RRULE:FREQ=YEARLY;BYMONTH=3;BYDAY=-1SU
END:DAYLIGHT
BEGIN:STANDARD
TZOFFSETFROM:+0100
TZOFFSETTO:+0000
TZNAME:GMT
DTSTART:19701025T020000
RRULE:FREQ=YEARLY;BYMONTH=10;BYDAY=-1SU
END:STANDARD
END:VTIMEZONE
BEGIN:VEVENT
UID:6278630:Event:126841
DTSTAMP:20260426T010008Z
SUMMARY:Martyn Wyndham-Read at Bowes Park Folk Clu
DESCRIPTION:Warm mellow-voiced ambassador for English and Australian f
 olk songs. Floor singers welcome. Come and enjoy Mum's meals.\nÂ£7.00Â
  Â Â Â Â  bowesparkfolk@gmail.com.\n\nFor more information visit https
 ://bowesandbounds.org/events/martyn-wyndham-read-at-bowes-park-folk-cl
 u
DTSTART;TZID=Europe/London:20171005T200000
DTEND;TZID=Europe/London:20171005T230000
CATEGORIES:folk, music, evening
LOCATION:Mum's Bistro
WEBSITE:
URL:
CONTACT:07774 147296
ORGANIZER;CN="Catharine Perry":https://bowesandbounds.org/profile/Cath
 arinePerry
ATTACH;FMTTYPE="image/jpeg":http://storage.ning.com/topology/rest/1.0/
 file/get/2287321285?profile=original
ATTENDEE;ROLE=REQ-PARTICIPANT;PARTSTAT=ACCEPTED;RSVP=TRUE;CN="Catharin
 e Perry":https://bowesandbounds.org/profile/CatharinePerry
END:VEVENT
END:VCALENDAR
