BEGIN:VCALENDAR
PRODID:NingEventWidget-v1
VERSION:2.0
METHOD:PUBLISH
BEGIN:VTIMEZONE
TZID:Europe/London
X-LIC-LOCATION:Europe/London
BEGIN:DAYLIGHT
TZOFFSETFROM:+0000
TZOFFSETTO:+0100
TZNAME:BST
DTSTART:19700329T010000
RRULE:FREQ=YEARLY;BYMONTH=3;BYDAY=-1SU
END:DAYLIGHT
BEGIN:STANDARD
TZOFFSETFROM:+0100
TZOFFSETTO:+0000
TZNAME:GMT
DTSTART:19701025T020000
RRULE:FREQ=YEARLY;BYMONTH=10;BYDAY=-1SU
END:STANDARD
END:VTIMEZONE
BEGIN:VEVENT
UID:6278630:Event:122304
DTSTAMP:20260423T172901Z
SUMMARY:MASSON MUSIC AND DRAMA
DESCRIPTION:Forbes and Melanie Masson have created inspiring, fun, con
 fidence building classes for children.\nWith a wealth of experience, M
 elanie, X Factor Finalist, Recording Artist and West End Musical Perfo
 rmer, together with husband Forbes, Associate Artist with the Royal Sh
 akespeare Company, Film, TV, West End Actor and Director, are passiona
 te about sharing their knowledge and teaching your kids in an artistic
  and nurturing environment.\nAges 10-14 years\nFRIDAYS 4pm Drama 5pm S
 inging\nEmail\nmassonmusicanddrama@gmail.com\n\nFor more information v
 isit https://bowesandbounds.org/events/masson-music-and-drama-1
DTSTART;TZID=Europe/London:20170428T160000
DTEND;TZID=Europe/London:20170428T180000
CATEGORIES:"children's", music, and, drama, classes, for, ages, 10-14
LOCATION:SPARK/99
WEBSITE:
URL:
CONTACT:
ORGANIZER;CN="Melanie Masson":https://bowesandbounds.org/profile/Melan
 ieRobertson
ATTACH;FMTTYPE="image/jpeg":http://storage.ning.com/topology/rest/1.0/
 file/get/2287318214?profile=original
ATTENDEE;ROLE=REQ-PARTICIPANT;PARTSTAT=ACCEPTED;RSVP=TRUE;CN="Melanie 
 Masson":https://bowesandbounds.org/profile/MelanieRobertson
END:VEVENT
END:VCALENDAR
