BEGIN:VCALENDAR
PRODID:NingEventWidget-v1
VERSION:2.0
METHOD:PUBLISH
BEGIN:VTIMEZONE
TZID:Europe/London
X-LIC-LOCATION:Europe/London
BEGIN:DAYLIGHT
TZOFFSETFROM:+0000
TZOFFSETTO:+0100
TZNAME:BST
DTSTART:19700329T010000
RRULE:FREQ=YEARLY;BYMONTH=3;BYDAY=-1SU
END:DAYLIGHT
BEGIN:STANDARD
TZOFFSETFROM:+0100
TZOFFSETTO:+0000
TZNAME:GMT
DTSTART:19701025T020000
RRULE:FREQ=YEARLY;BYMONTH=10;BYDAY=-1SU
END:STANDARD
END:VTIMEZONE
BEGIN:VEVENT
UID:6278630:Event:123922
DTSTAMP:20260423T211020Z
SUMMARY:MASSON MUSIC FOR KIDS
DESCRIPTION:FREE TRIAL LESSON then £8 per child, sibling discounts.\n
 Fun, Confidence building group singing classes for kids in a nurturing
  environment.\n\nFor more information visit https://bowesandbounds.org
 /events/masson-music-for-kids-1
DTSTART;TZID=Europe/London:20170612T161500
DTEND;TZID=Europe/London:20170612T171500
CATEGORIES:"kid's", group, singing, class
LOCATION:SPARK/99
WEBSITE:
URL:
CONTACT:
ORGANIZER:Melanie Masson
ATTACH;FMTTYPE="image/jpeg":http://storage.ning.com/topology/rest/1.0/
 file/get/2287319216?profile=original
ATTENDEE;ROLE=REQ-PARTICIPANT;PARTSTAT=ACCEPTED;RSVP=TRUE;CN="Melanie 
 Masson":https://bowesandbounds.org/profile/MelanieRobertson
END:VEVENT
END:VCALENDAR
