BEGIN:VCALENDAR
PRODID:NingEventWidget-v1
VERSION:2.0
METHOD:PUBLISH
BEGIN:VTIMEZONE
TZID:Europe/London
X-LIC-LOCATION:Europe/London
BEGIN:DAYLIGHT
TZOFFSETFROM:+0000
TZOFFSETTO:+0100
TZNAME:BST
DTSTART:19700329T010000
RRULE:FREQ=YEARLY;BYMONTH=3;BYDAY=-1SU
END:DAYLIGHT
BEGIN:STANDARD
TZOFFSETFROM:+0100
TZOFFSETTO:+0000
TZNAME:GMT
DTSTART:19701025T020000
RRULE:FREQ=YEARLY;BYMONTH=10;BYDAY=-1SU
END:STANDARD
END:VTIMEZONE
BEGIN:VEVENT
UID:6278630:Event:130650
DTSTAMP:20260421T161635Z
SUMMARY:Meditation Class for Mindful Living
DESCRIPTION:Meditation Class for Mindful Living - 7-8pm on Tuesdays\nD
 o you want a quieter mind? And to experience more peace and happiness 
 into your life? Join us to learn to live in a stress-free way!\nFor mo
 re information contact Boyan on 07543824928 or by e-mail: hello@boyanm
 .com\n£5 per session\n*The hub is in the park, and the nearest park g
 ate to the Hub is in Higham Road\n\nFor more information visit https:/
 /bowesandbounds.org/events/meditation-class-for-mindful-living
DTSTART;TZID=Europe/London:20180327T190000
DTEND;TZID=Europe/London:20180327T200000
CATEGORIES:mindfulness
LOCATION:Lordship Hub, Lordship Rec
WEBSITE:https://lordshiphub.org.uk/events/2018/03/mindfulness-5/
URL:https://lordshiphub.org.uk/events/2018/03/mindfulness-5/
CONTACT:07543824928
ORGANIZER;CN="Boyan Milouchev":https://bowesandbounds.org/profile/Boya
 nMilouchev
ATTACH;FMTTYPE="image/jpeg":http://storage.ning.com/topology/rest/1.0/
 file/get/2287323744?profile=original
ATTENDEE;ROLE=REQ-PARTICIPANT;PARTSTAT=ACCEPTED;RSVP=TRUE;CN="Boyan Mi
 louchev":https://bowesandbounds.org/profile/BoyanMilouchev
END:VEVENT
END:VCALENDAR
