BEGIN:VCALENDAR
PRODID:NingEventWidget-v1
VERSION:2.0
METHOD:PUBLISH
BEGIN:VTIMEZONE
TZID:Europe/London
X-LIC-LOCATION:Europe/London
BEGIN:DAYLIGHT
TZOFFSETFROM:+0000
TZOFFSETTO:+0100
TZNAME:BST
DTSTART:19700329T010000
RRULE:FREQ=YEARLY;BYMONTH=3;BYDAY=-1SU
END:DAYLIGHT
BEGIN:STANDARD
TZOFFSETFROM:+0100
TZOFFSETTO:+0000
TZNAME:GMT
DTSTART:19701025T020000
RRULE:FREQ=YEARLY;BYMONTH=10;BYDAY=-1SU
END:STANDARD
END:VTIMEZONE
BEGIN:VEVENT
UID:6278630:Event:92308
DTSTAMP:20260422T114048Z
SUMMARY:Meet the Author: Rev Steve Mann
DESCRIPTION:\n\nDuring the period that Christian Communities know as L
 ent, they may have been making use of Rev Steve Mann's booklet togethe
 r with the video of Les Miserables.\nThis event facilitates the commun
 ity and others to meet Rev Steve Mann. Doors Open and Refreshments ser
 ved from 19:00; event starts at 19:30. All Welcome\nRev. Steve Mann is
  an ordained minister serving the United Kingdom Methodist Church and 
 a regular contributor to religious broadcasting on BBC Radio Kent. His
  passion is to communicate deep spiritual truth in ways accessible to 
 all. Before entering full-time ministry he was awarded an MA in Mathem
 atics from Oxford University and worked for several years as as a char
 tered accountant. He lives in Tunbridge Wells with his wife and two ch
 ildren.\n\nFor more information visit https://bowesandbounds.org/event
 s/meet-the-author-rev-steve-mann
DTSTART;TZID=Europe/London:20150317T190000
DTEND;TZID=Europe/London:20150317T203000
CATEGORIES:"religious'", "meet the author", "steve mann"
LOCATION:Southgate Methodist Church, The Bourne
WEBSITE:http://www.enfieldcircuit.com/churches/southgate/worship.html
URL:http://www.enfieldcircuit.com/churches/southgate/worship.html
CONTACT:
ORGANIZER;CN="Donald Smith":https://bowesandbounds.org/profile/DonaldS
 mith
ATTACH;FMTTYPE="image/jpeg":http://storage.ning.com/topology/rest/1.0/
 file/get/2287273307?profile=original
ATTENDEE;ROLE=REQ-PARTICIPANT;PARTSTAT=ACCEPTED;RSVP=TRUE;CN="Donald S
 mith":https://bowesandbounds.org/profile/DonaldSmith
END:VEVENT
END:VCALENDAR
