BEGIN:VCALENDAR
PRODID:NingEventWidget-v1
VERSION:2.0
METHOD:PUBLISH
BEGIN:VTIMEZONE
TZID:Europe/London
X-LIC-LOCATION:Europe/London
BEGIN:DAYLIGHT
TZOFFSETFROM:+0000
TZOFFSETTO:+0100
TZNAME:BST
DTSTART:19700329T010000
RRULE:FREQ=YEARLY;BYMONTH=3;BYDAY=-1SU
END:DAYLIGHT
BEGIN:STANDARD
TZOFFSETFROM:+0100
TZOFFSETTO:+0000
TZNAME:GMT
DTSTART:19701025T020000
RRULE:FREQ=YEARLY;BYMONTH=10;BYDAY=-1SU
END:STANDARD
END:VTIMEZONE
BEGIN:VEVENT
UID:6278630:Event:61697
DTSTAMP:20260425T150300Z
SUMMARY:Meet The Brewer
DESCRIPTION:Love beer? Ever wondered how beer is brewed? Well, swing o
 n by to The Step on Thursday 1st August from 7pm!\nThere are some seri
 ous beer experts winging their way from the fantabulous Meantime Brewi
 ng Company in Greenwich up north to Bowes Park. They’ll be offering 
 some free tastings and lots of interesting facts about beer… ask the
 m anything and we reckon they’ll have the answer. All you have to do
  is turn up and enjoy imbibing and quizzing the Meantime team!\nMeanti
 me London Lager was our beer of choice when we first opened The Step. 
 It’s been such a hit that we’ve recently added their London Pale A
 le on draught too.\nThe Meantime Brewery was founded in 2000 and has b
 een building a reputation as Britain’s leading and most innovative c
 raft brewer ever since.\nThey only use the best quality malt and hops 
 and their brewing processes are always entirely faithful to the origin
 al beer styles – beers are allowed to fully mature before being rele
 ased from the brewery and their beer is never pasteurized.\n\nFor more
  information visit https://bowesandbounds.org/events/meet-the-brewer
DTSTART;TZID=Europe/London:20130801T190000
DTEND;TZID=Europe/London:20130801T210000
CATEGORIES:tasting, beer, drink, meantime
LOCATION:The Step
WEBSITE:http://www.thestep.co.uk
URL:http://www.thestep.co.uk
CONTACT:020 3302 2412
ORGANIZER;CN="Nell Riches":https://bowesandbounds.org/profile/NellRich
 es
ATTACH;FMTTYPE="image/jpeg":http://storage.ning.com/topology/rest/1.0/
 file/get/2287250378?profile=original
ATTENDEE;ROLE=REQ-PARTICIPANT;PARTSTAT=ACCEPTED;RSVP=TRUE;CN="Lindsey 
 Berthoud":https://bowesandbounds.org/profile/LindseyClarke
ATTENDEE;ROLE=REQ-PARTICIPANT;PARTSTAT=ACCEPTED;RSVP=TRUE;CN="Nell Ric
 hes":https://bowesandbounds.org/profile/NellRiches
END:VEVENT
END:VCALENDAR
