BEGIN:VCALENDAR
PRODID:NingEventWidget-v1
VERSION:2.0
METHOD:PUBLISH
BEGIN:VTIMEZONE
TZID:Europe/London
X-LIC-LOCATION:Europe/London
BEGIN:DAYLIGHT
TZOFFSETFROM:+0000
TZOFFSETTO:+0100
TZNAME:BST
DTSTART:19700329T010000
RRULE:FREQ=YEARLY;BYMONTH=3;BYDAY=-1SU
END:DAYLIGHT
BEGIN:STANDARD
TZOFFSETFROM:+0100
TZOFFSETTO:+0000
TZNAME:GMT
DTSTART:19701025T020000
RRULE:FREQ=YEARLY;BYMONTH=10;BYDAY=-1SU
END:STANDARD
END:VTIMEZONE
BEGIN:VEVENT
UID:6278630:Event:123926
DTSTAMP:20260423T220205Z
SUMMARY:MELANIE MASSON'S SOUL SISTERS!
DESCRIPTION:If you've always wanted to learn to sing but didn't think 
 you could carry a tune in a bucket, I am offering fun, confidence buil
 ding group singing classes for ladies only.\nAll levels welcome.\n\nCo
 me and sing your troubles away!\n\nFor more information visit https://
 bowesandbounds.org/events/melanie-masson-s-soul-sisters-1
DTSTART;TZID=Europe/London:20170612T200000
DTEND;TZID=Europe/London:20170612T210000
CATEGORIES:"women's", group, singing, class
LOCATION:Hot Milk in Renaissance Music
WEBSITE:
URL:
CONTACT:
ORGANIZER:Melanie Masson
ATTACH;FMTTYPE="image/jpeg":http://storage.ning.com/topology/rest/1.0/
 file/get/2287319203?profile=original
ATTENDEE;ROLE=REQ-PARTICIPANT;PARTSTAT=ACCEPTED;RSVP=TRUE;CN="Melanie 
 Masson":https://bowesandbounds.org/profile/MelanieRobertson
END:VEVENT
END:VCALENDAR
