BEGIN:VCALENDAR
PRODID:NingEventWidget-v1
VERSION:2.0
METHOD:PUBLISH
BEGIN:VTIMEZONE
TZID:Europe/London
X-LIC-LOCATION:Europe/London
BEGIN:DAYLIGHT
TZOFFSETFROM:+0000
TZOFFSETTO:+0100
TZNAME:BST
DTSTART:19700329T010000
RRULE:FREQ=YEARLY;BYMONTH=3;BYDAY=-1SU
END:DAYLIGHT
BEGIN:STANDARD
TZOFFSETFROM:+0100
TZOFFSETTO:+0000
TZNAME:GMT
DTSTART:19701025T020000
RRULE:FREQ=YEARLY;BYMONTH=10;BYDAY=-1SU
END:STANDARD
END:VTIMEZONE
BEGIN:VEVENT
UID:6278630:Event:250831
DTSTAMP:20260419T161055Z
SUMMARY:Mercedes
DESCRIPTION:Mercedes Maresca (piano)\nMercedes Maresca is from Argenti
 na and has been based in London since 1999. She is a multi-instrumenta
 list, composer and improviser. Mercedes has created Raices project, a 
 collection of small albums that explores her South American roots and 
 her deep connection with the sound world of Spiritual Jazz. She will b
 e performing an improvised set based on her recently released EP Gotas
  de Colores and her upcoming album Caminos (Raices Project)\nIn her ow
 n words these short pieces are \"Pensamientos del alma\", thoughts of 
 the soul.\nOn Raices Project…\n“These miniatures are atmospheric, 
 melodic, touching and easy to listen to, without losing their musical 
 deepness. And they showcase a very unique artist”.\nWulf Müller htt
 ps://open.spotify.com/album/3Ash1lYnhPFDa4DMchFDFL\nMao Yamada (double
  bass)\nMao Yamada has been performing in and around London since 1994
 . He toured with Zongamin (XL recordings), Georgia (Domino records) ar
 ound Europe, US and Japan. He’s also toured as the regular bassist f
 or Dominic Pipkin’s Dom & The Iko’s in UK and Europe.\nOn double b
 ass, Mao has worked with various London based musicians and projects s
 uch as Shirt Tail Stompers, Our Little Trio, Roy Pfeffer, Cameron Pier
 re, Dominic Ashworth, Greg Heath, Nick Meier, Dorian Ford, Shabaka Hut
 chings, Leon Greening, Edison Herbert, Jonathan Gee, Vimala Rowe, Leon
  Garner. Mao has toured Japan in 2017, 2019 and 2024 as a trio featuri
 ng Dorian Ford and a Japanese drumming legend Yasuhiro Yoshigaki.\nKar
 amel - 4 Coburg Road, London N22 6UJ. The Karamel vegan kitchen will b
 e serving food until 9.30pm. Email karamel8775@gmail.com to book a tab
 le for groups of 3+.\nDoors open 7pm, music starts at 8pm.\n£7.50 Ear
 ly Bird £10 General Admission £5 Student\n\nFor more information vis
 it https://bowesandbounds.org/events/mercedes
DTSTART;TZID=Europe/London:20250724T190000
DTEND;TZID=Europe/London:20250724T220000
CATEGORIES:jazz, veganvenue, veganfood, livemusic, worldmusic
LOCATION:karamel, 4 Coburg Road, Wood Green, London N22 6UJ
WEBSITE:https://www.musicglue.com/karamel/events/2025-07-24-mercedes-k
 aramel
URL:https://www.musicglue.com/karamel/events/2025-07-24-mercedes-karam
 el
CONTACT:
ORGANIZER;CN="Collage Artspaces":https://bowesandbounds.org/profile/Co
 llage_Arts
ATTACH;FMTTYPE="image/jpeg":https://storage.ning.com/topology/rest/1.0
 /file/get/13564562478?profile=original
ATTENDEE;ROLE=REQ-PARTICIPANT;PARTSTAT=ACCEPTED;RSVP=TRUE;CN="Collage 
 Artspaces":https://bowesandbounds.org/profile/Collage_Arts
END:VEVENT
END:VCALENDAR
