BEGIN:VCALENDAR
PRODID:NingEventWidget-v1
VERSION:2.0
METHOD:PUBLISH
BEGIN:VTIMEZONE
TZID:Europe/London
X-LIC-LOCATION:Europe/London
BEGIN:DAYLIGHT
TZOFFSETFROM:+0000
TZOFFSETTO:+0100
TZNAME:BST
DTSTART:19700329T010000
RRULE:FREQ=YEARLY;BYMONTH=3;BYDAY=-1SU
END:DAYLIGHT
BEGIN:STANDARD
TZOFFSETFROM:+0100
TZOFFSETTO:+0000
TZNAME:GMT
DTSTART:19701025T020000
RRULE:FREQ=YEARLY;BYMONTH=10;BYDAY=-1SU
END:STANDARD
END:VTIMEZONE
BEGIN:VEVENT
UID:6278630:Event:248886
DTSTAMP:20260423T173815Z
SUMMARY:Messy Christmas @ Muswell Hill Methodist Church
DESCRIPTION:Messy Church this Sunday!\nGet into the Christmas spirit w
 ith some Messy Church Christmas crafts at Muswell Hill Methodist Churc
 h this Sunday, from 3.30pm.\n\nCrafts and games\nChristmas story\nMeal
  together\n\nFree and for all ages – there's no need to book. Find u
 s on Pages Lane: https://mhmc.org.uk/find-us/\n\nFor more information 
 visit https://bowesandbounds.org/events/messy-christmas-muswell-hill-m
 ethodist-church
DTSTART;TZID=Europe/London:20241124T153000
DTEND;TZID=Europe/London:20241124T173000
CATEGORIES:christmas, children, families, church, free
LOCATION:Muswell Hill Methodist Church
WEBSITE:https://www.stmartinofporres.co.uk/
URL:https://www.stmartinofporres.co.uk/
CONTACT:020 8365 2466
ORGANIZER;CN="Penny Woods":https://bowesandbounds.org/profile/PennyWoo
 ds
ATTACH;FMTTYPE="image/jpeg":https://storage.ning.com/topology/rest/1.0
 /file/get/13167891090?profile=original
ATTENDEE;ROLE=REQ-PARTICIPANT;PARTSTAT=ACCEPTED;RSVP=TRUE;CN="Penny Wo
 ods":https://bowesandbounds.org/profile/PennyWoods
END:VEVENT
END:VCALENDAR
