BEGIN:VCALENDAR
PRODID:NingEventWidget-v1
VERSION:2.0
METHOD:PUBLISH
BEGIN:VTIMEZONE
TZID:Europe/London
X-LIC-LOCATION:Europe/London
BEGIN:DAYLIGHT
TZOFFSETFROM:+0000
TZOFFSETTO:+0100
TZNAME:BST
DTSTART:19700329T010000
RRULE:FREQ=YEARLY;BYMONTH=3;BYDAY=-1SU
END:DAYLIGHT
BEGIN:STANDARD
TZOFFSETFROM:+0100
TZOFFSETTO:+0000
TZNAME:GMT
DTSTART:19701025T020000
RRULE:FREQ=YEARLY;BYMONTH=10;BYDAY=-1SU
END:STANDARD
END:VTIMEZONE
BEGIN:VEVENT
UID:6278630:Event:138918
DTSTAMP:20260423T073633Z
SUMMARY:Messy Church at Bowes
DESCRIPTION:Hi There, \n\nSt Michael at Bowes Church invites you for 
 our next Messy Church gathering which will be taking place on Saturday
 , November 9th 2019, between 2.00pm and 3.30pm at our church hall. The
 re will be lots of activities, games, stories, music and food. Come al
 ong and enjoy being part of this community. All ages are welcome. \n\
 nFor more information visit https://bowesandbounds.org/events/messy-ch
 urch-at-bowes
DTSTART;TZID=Europe/London:20191109T140000
DTEND;TZID=Europe/London:20191109T153000
CATEGORIES:messy, church, community, event
LOCATION:99 Palmerston Road N22 8X:
WEBSITE:
URL:
CONTACT:07908335400
ORGANIZER;CN="Revd Engin YILDIRIM":https://bowesandbounds.org/profile/
 RevdEnginYILDIRIM
ATTACH;FMTTYPE="image/jpeg":https://storage.ning.com/topology/rest/1.0
 /file/get/3697328106?profile=original
ATTENDEE;ROLE=REQ-PARTICIPANT;PARTSTAT=ACCEPTED;RSVP=TRUE;CN="Revd Eng
 in YILDIRIM":https://bowesandbounds.org/profile/RevdEnginYILDIRIM
END:VEVENT
END:VCALENDAR
