BEGIN:VCALENDAR
PRODID:NingEventWidget-v1
VERSION:2.0
METHOD:PUBLISH
BEGIN:VTIMEZONE
TZID:Europe/London
X-LIC-LOCATION:Europe/London
BEGIN:DAYLIGHT
TZOFFSETFROM:+0000
TZOFFSETTO:+0100
TZNAME:BST
DTSTART:19700329T010000
RRULE:FREQ=YEARLY;BYMONTH=3;BYDAY=-1SU
END:DAYLIGHT
BEGIN:STANDARD
TZOFFSETFROM:+0100
TZOFFSETTO:+0000
TZNAME:GMT
DTSTART:19701025T020000
RRULE:FREQ=YEARLY;BYMONTH=10;BYDAY=-1SU
END:STANDARD
END:VTIMEZONE
BEGIN:VEVENT
UID:6278630:Event:241716
DTSTAMP:20260421T063844Z
SUMMARY:Messy Church harvest special
DESCRIPTION:Join us for the next Messy Church at Muswell Hill Methodis
 t Church on the theme of harvest!\nEveryone is invited, young and old.
  Messy Church – including a meal – is completely free and there’
 s no need to book in advance.\nWe’ll be collecting donations for Hor
 nsey Food Bank.\n\n3.30pm Crafts and activities\n4.30pm Celebration\n4
 .45pm meal together\n\n\nFor more information visit https://bowesandbo
 unds.org/events/messy-church-harvest-special
DTSTART;TZID=Europe/London:20221016T153000
DTEND;TZID=Europe/London:20221016T173000
CATEGORIES:church, celebration
LOCATION:Muswell Hill Methodist Church, Pages Lane, N10
WEBSITE:https://mhmc.org.uk
URL:https://mhmc.org.uk
CONTACT:020 8365 2466
ORGANIZER;CN="Penny Woods":https://bowesandbounds.org/profile/PennyWoo
 ds
ATTACH;FMTTYPE="image/jpeg":https://storage.ning.com/topology/rest/1.0
 /file/get/10836326501?profile=original
ATTENDEE;ROLE=REQ-PARTICIPANT;PARTSTAT=ACCEPTED;RSVP=TRUE;CN="Penny Wo
 ods":https://bowesandbounds.org/profile/PennyWoods
END:VEVENT
END:VCALENDAR
