BEGIN:VCALENDAR
PRODID:NingEventWidget-v1
VERSION:2.0
METHOD:PUBLISH
BEGIN:VTIMEZONE
TZID:Europe/London
X-LIC-LOCATION:Europe/London
BEGIN:DAYLIGHT
TZOFFSETFROM:+0000
TZOFFSETTO:+0100
TZNAME:BST
DTSTART:19700329T010000
RRULE:FREQ=YEARLY;BYMONTH=3;BYDAY=-1SU
END:DAYLIGHT
BEGIN:STANDARD
TZOFFSETFROM:+0100
TZOFFSETTO:+0000
TZNAME:GMT
DTSTART:19701025T020000
RRULE:FREQ=YEARLY;BYMONTH=10;BYDAY=-1SU
END:STANDARD
END:VTIMEZONE
BEGIN:VEVENT
UID:6278630:Event:252059
DTSTAMP:20260425T021001Z
SUMMARY:Messy Church Light Party
DESCRIPTION:Join us for messy fun at Muswell Hill Methodist Church on 
 Sunday 26th October from 3.30pm.\nWhere: Muswell Hill Methodist Church
 , 28 Pages Lane, N10 1PPWhat: Messy fun, crafts, celebration and a fre
 e meal for everyoneWhen: Sunday 26th October 3.30–5pm\nEveryone's we
 lcome, young and old(er). Free and no need to book. Any questions, get
  in touch. Details are on then church contact us page: https://mhmc.or
 g.uk/contact-us/\n\nFor more information visit https://bowesandbounds.
 org/events/messy-church-light-party
DTSTART;TZID=Europe/London:20251026T153000
DTEND;TZID=Europe/London:20251026T170000
CATEGORIES:free, family, church, crafts, children
LOCATION:Muswell Hill Methodist Church
WEBSITE:https://mhmc.org.uk/
URL:https://mhmc.org.uk/
CONTACT:020 8365 2466
ORGANIZER;CN="Penny Woods":https://bowesandbounds.org/profile/PennyWoo
 ds
ATTACH;FMTTYPE="image/jpeg":https://storage.ning.com/topology/rest/1.0
 /file/get/13745639285?profile=original
ATTENDEE;ROLE=REQ-PARTICIPANT;PARTSTAT=ACCEPTED;RSVP=TRUE;CN="Penny Wo
 ods":https://bowesandbounds.org/profile/PennyWoods
END:VEVENT
END:VCALENDAR
