BEGIN:VCALENDAR
PRODID:NingEventWidget-v1
VERSION:2.0
METHOD:PUBLISH
BEGIN:VTIMEZONE
TZID:Europe/London
X-LIC-LOCATION:Europe/London
BEGIN:DAYLIGHT
TZOFFSETFROM:+0000
TZOFFSETTO:+0100
TZNAME:BST
DTSTART:19700329T010000
RRULE:FREQ=YEARLY;BYMONTH=3;BYDAY=-1SU
END:DAYLIGHT
BEGIN:STANDARD
TZOFFSETFROM:+0100
TZOFFSETTO:+0000
TZNAME:GMT
DTSTART:19701025T020000
RRULE:FREQ=YEARLY;BYMONTH=10;BYDAY=-1SU
END:STANDARD
END:VTIMEZONE
BEGIN:VEVENT
UID:6278630:Event:246410
DTSTAMP:20260420T004635Z
SUMMARY:Messy Church @ Muswell Hill Methodist Church
DESCRIPTION:Everyone's welcome at Messy Church!\n3.30pm – Crafts\n4.
 30pm – Celebration\n4.45pm – Meal together\nMessy Church is free a
 nd open to everyone. You don't need to book, and we have baby changing
  available.\n\nFor more information visit https://bowesandbounds.org/e
 vents/messy-church-muswell-hill-methodist-church-1
DTSTART;TZID=Europe/London:20240128T153000
DTEND;TZID=Europe/London:20240128T173000
CATEGORIES:"family.", church, crafts, food, free
LOCATION:Muswell Hill Methodist Church
WEBSITE:https://mhmc.org.uk/
URL:https://mhmc.org.uk/
CONTACT:020 8365 2466
ORGANIZER;CN="Penny Woods":https://bowesandbounds.org/profile/PennyWoo
 ds
ATTACH;FMTTYPE="image/jpeg":https://storage.ning.com/topology/rest/1.0
 /file/get/12361094062?profile=original
ATTENDEE;ROLE=REQ-PARTICIPANT;PARTSTAT=ACCEPTED;RSVP=TRUE;CN="Penny Wo
 ods":https://bowesandbounds.org/profile/PennyWoods
END:VEVENT
END:VCALENDAR
