BEGIN:VCALENDAR
PRODID:NingEventWidget-v1
VERSION:2.0
METHOD:PUBLISH
BEGIN:VTIMEZONE
TZID:Europe/London
X-LIC-LOCATION:Europe/London
BEGIN:DAYLIGHT
TZOFFSETFROM:+0000
TZOFFSETTO:+0100
TZNAME:BST
DTSTART:19700329T010000
RRULE:FREQ=YEARLY;BYMONTH=3;BYDAY=-1SU
END:DAYLIGHT
BEGIN:STANDARD
TZOFFSETFROM:+0100
TZOFFSETTO:+0000
TZNAME:GMT
DTSTART:19701025T020000
RRULE:FREQ=YEARLY;BYMONTH=10;BYDAY=-1SU
END:STANDARD
END:VTIMEZONE
BEGIN:VEVENT
UID:6278630:Event:245719
DTSTAMP:20260419T165226Z
SUMMARY:Messy Church @ Muswell Hill Methodist Church
DESCRIPTION:Join us for Messy Church!\nThis event is free, for all age
 s and open to everyone.\nEnjoy crafts and activities, a short time of 
 worship and singing, and a meal together.\nQuestions? Get in touch\nAn
 d don't forget the clocks go back this weekend!\n\nFor more informatio
 n visit https://bowesandbounds.org/events/messy-church-muswell-hill-me
 thodist-church
DTSTART;TZID=Europe/London:20231029T153000
DTEND;TZID=Europe/London:20231029T173000
CATEGORIES:"family.", church, crafts, food, free
LOCATION:Muswell Hill
WEBSITE:https://mhmc.org.uk/
URL:https://mhmc.org.uk/
CONTACT:020 8365 2466
ORGANIZER;CN="Penny Woods":https://bowesandbounds.org/profile/PennyWoo
 ds
ATTACH;FMTTYPE="image/jpeg":https://storage.ning.com/topology/rest/1.0
 /file/get/12263978100?profile=original
ATTENDEE;ROLE=REQ-PARTICIPANT;PARTSTAT=ACCEPTED;RSVP=TRUE;CN="Penny Wo
 ods":https://bowesandbounds.org/profile/PennyWoods
END:VEVENT
END:VCALENDAR
