BEGIN:VCALENDAR
PRODID:NingEventWidget-v1
VERSION:2.0
METHOD:PUBLISH
BEGIN:VTIMEZONE
TZID:Europe/London
X-LIC-LOCATION:Europe/London
BEGIN:DAYLIGHT
TZOFFSETFROM:+0000
TZOFFSETTO:+0100
TZNAME:BST
DTSTART:19700329T010000
RRULE:FREQ=YEARLY;BYMONTH=3;BYDAY=-1SU
END:DAYLIGHT
BEGIN:STANDARD
TZOFFSETFROM:+0100
TZOFFSETTO:+0000
TZNAME:GMT
DTSTART:19701025T020000
RRULE:FREQ=YEARLY;BYMONTH=10;BYDAY=-1SU
END:STANDARD
END:VTIMEZONE
BEGIN:VEVENT
UID:6278630:Event:129874
DTSTAMP:20260425T125258Z
SUMMARY:Michael Rosen Talk - FRIENDS OF MUSWELL HILL LIBRARY
DESCRIPTION:The world-renowned author Michael Rosen is coming to Mus
 well Hill Library to give a talk about his memoirs which have recently
  been published. A proportion of the book is set in Muswell Hill, as M
 ichael Rosen grew up locally. Books will be on sale and can be signed 
 by the author. All members of the public are most welcome. Because the
  speaker is a high-profile figure, we suggest that attendees arrive ea
 rly as there is limited seating available. \nFREE event organised by 
 the Friends of Muswell Hill Library.\n\nFor more information visit htt
 ps://bowesandbounds.org/events/michael-rosen-talk-friends-of-muswell-h
 ill-library
DTSTART;TZID=Europe/London:20180202T140000
DTEND;TZID=Europe/London:20180202T150000
CATEGORIES:talk
LOCATION:Muswell Hill Library
WEBSITE:https://www.google.co.uk/maps/place/Muswell+Hill+Library/@51.5
 911292,-0.1454723,17z/data=!3m1!4b1!4m5!3m4!1s0x48761a2c48556e89:0x44f
 1e064d1b13886!8m2!3d51.5911292!4d-0.1432836?hl=en
URL:https://www.google.co.uk/maps/place/Muswell+Hill+Library/@51.59112
 92,-0.1454723,17z/data=!3m1!4b1!4m5!3m4!1s0x48761a2c48556e89:0x44f1e06
 4d1b13886!8m2!3d51.5911292!4d-0.1432836?hl=en
CONTACT:
ORGANIZER;CN="Deirdre Stowell-Smith":https://bowesandbounds.org/profil
 e/DeirdreStowellSmith
ATTACH;FMTTYPE="image/jpeg":
ATTENDEE;ROLE=REQ-PARTICIPANT;PARTSTAT=ACCEPTED;RSVP=TRUE;CN="Deirdre 
 Stowell-Smith":https://bowesandbounds.org/profile/DeirdreStowellSmith
END:VEVENT
END:VCALENDAR
