BEGIN:VCALENDAR
PRODID:NingEventWidget-v1
VERSION:2.0
METHOD:PUBLISH
BEGIN:VTIMEZONE
TZID:Europe/London
X-LIC-LOCATION:Europe/London
BEGIN:DAYLIGHT
TZOFFSETFROM:+0000
TZOFFSETTO:+0100
TZNAME:BST
DTSTART:19700329T010000
RRULE:FREQ=YEARLY;BYMONTH=3;BYDAY=-1SU
END:DAYLIGHT
BEGIN:STANDARD
TZOFFSETFROM:+0100
TZOFFSETTO:+0000
TZNAME:GMT
DTSTART:19701025T020000
RRULE:FREQ=YEARLY;BYMONTH=10;BYDAY=-1SU
END:STANDARD
END:VTIMEZONE
BEGIN:VEVENT
UID:6278630:Event:251026
DTSTAMP:20260421T081810Z
SUMMARY:Midsummer music
DESCRIPTION:ALEXANDRA PARK LIBRARY\n\nPresents a concert of\n\nMIDSUMM
 ER MUSIC\n\nBy\n\nSTEPHEN BARON (PIANO)\n\nSaturday 21st June, 3.00 â€
 “ 4.00pm\n\n\n\n\n\nProgramme to include\n\nBach, Haydn, Beethoven, Ch
 opin and Ravel\n\nThis event is free to all. Donations welcome.\nsaplh
 aringey@gmail.com\nMore info. www.stephenbaronmusic.co.uk\n\nFor more 
 information visit https://bowesandbounds.org/events/midsummer-music
DTSTART;TZID=Europe/London:20250621T150000
DTEND;TZID=Europe/London:20250621T160000
CATEGORIES:classical, music, concert
LOCATION:Alexandra Park Library
WEBSITE:
URL:
CONTACT:
ORGANIZER;CN="Stephen Baron":https://bowesandbounds.org/profile/Stephe
 nBaron
ATTACH;FMTTYPE="image/jpeg":https://storage.ning.com/topology/rest/1.0
 /file/get/13581699299?profile=original
ATTENDEE;ROLE=REQ-PARTICIPANT;PARTSTAT=ACCEPTED;RSVP=TRUE;CN="Stephen 
 Baron":https://bowesandbounds.org/profile/StephenBaron
END:VEVENT
END:VCALENDAR
