BEGIN:VCALENDAR
PRODID:NingEventWidget-v1
VERSION:2.0
METHOD:PUBLISH
BEGIN:VTIMEZONE
TZID:Europe/London
X-LIC-LOCATION:Europe/London
BEGIN:DAYLIGHT
TZOFFSETFROM:+0000
TZOFFSETTO:+0100
TZNAME:BST
DTSTART:19700329T010000
RRULE:FREQ=YEARLY;BYMONTH=3;BYDAY=-1SU
END:DAYLIGHT
BEGIN:STANDARD
TZOFFSETFROM:+0100
TZOFFSETTO:+0000
TZNAME:GMT
DTSTART:19701025T020000
RRULE:FREQ=YEARLY;BYMONTH=10;BYDAY=-1SU
END:STANDARD
END:VTIMEZONE
BEGIN:VEVENT
UID:6278630:Event:104468
DTSTAMP:20260421T224648Z
SUMMARY:Midwifery at NMUH
DESCRIPTION:Births, baths and double beds for partners: put your quest
 ions to our very own 'Delivery Man'.\nFree public talk by Gary Slevin,
  head of midwifery services at North Middlesex University Hospital.\n\
 nFind out about birthing methods in our brand new maternity unit, home
  births and our community midwifery team\nYou can raise any questions 
 you have as a result of the report published in the British Medical Jo
 urnal (Click here) William Palmer and Imperial College on neonatal de
 aths \nIf your family is having a new baby read the charitable websit
 e \"Count the kicks\"\n\n\nFor more information visit https://bowesan
 dbounds.org/events/midwifery-at-nmuh
DTSTART;TZID=Europe/London:20151209T180000
DTEND;TZID=Europe/London:20151209T190000
CATEGORIES:talk, midwifery
LOCATION:North Middlesex University Hospital (Board Room,Level1)
WEBSITE:
URL:
CONTACT:
ORGANIZER;CN="Donald Smith":https://bowesandbounds.org/profile/DonaldS
 mith
ATTACH;FMTTYPE="image/jpeg":
ATTENDEE;ROLE=REQ-PARTICIPANT;PARTSTAT=ACCEPTED;RSVP=TRUE;CN="Donald S
 mith":https://bowesandbounds.org/profile/DonaldSmith
END:VEVENT
END:VCALENDAR
