BEGIN:VCALENDAR
PRODID:NingEventWidget-v1
VERSION:2.0
METHOD:PUBLISH
BEGIN:VTIMEZONE
TZID:Europe/London
X-LIC-LOCATION:Europe/London
BEGIN:DAYLIGHT
TZOFFSETFROM:+0000
TZOFFSETTO:+0100
TZNAME:BST
DTSTART:19700329T010000
RRULE:FREQ=YEARLY;BYMONTH=3;BYDAY=-1SU
END:DAYLIGHT
BEGIN:STANDARD
TZOFFSETFROM:+0100
TZOFFSETTO:+0000
TZNAME:GMT
DTSTART:19701025T020000
RRULE:FREQ=YEARLY;BYMONTH=10;BYDAY=-1SU
END:STANDARD
END:VTIMEZONE
BEGIN:VEVENT
UID:6278630:Event:19609
DTSTAMP:20260425T184408Z
SUMMARY:Mojo Working
DESCRIPTION:Mojo WorkingMojo Working is a live jam come open mic  eve
 ry Saturday Night. You can use it to jam with us from the house band e
 ither originals or covers were not snobby about music we just like peo
 ple who sing and play with all their heart and soul. At the moment the
 re no need to book a spot just turn up around 9pm and with your instru
 ment and crew and have a chat to your host Baxter Stone. The place goe
 s till about 1.00 am and it is really chilled the drinks are very reas
 onably priced and you don't get turfed out of the outside smoking area
  at 11 pm. Come and join in what has been some of the best jams in Lon
 don.It's basically a 10min walk down Bounds Green Road from Bounds Gre
 en Tube and it is opposite Park Ave. It also very close to Wood Green 
 Tube. Or 2 minutes on the 221 Bus from Bounds Green or Wood Green.\n\n
 For more information visit https://bowesandbounds.org/events/mojo-work
 ing-3
DTSTART;TZID=Europe/London:20110730T210000
DTEND;TZID=Europe/London:20110731T010000
CATEGORIES:jam, "night/", open, "mic/showcases"
LOCATION:The Prince Bar, Wood Green
WEBSITE:http://www.facebook.com/?sk=inbox#!/pages/The-Prince-Bar/15931
 2594107655?sk=info
URL:http://www.facebook.com/?sk=inbox#!/pages/The-Prince-Bar/159312594
 107655?sk=info
CONTACT:07983662236
ORGANIZER;CN="Baxter Stone":https://bowesandbounds.org/profile/BaxterS
 tone
ATTACH;FMTTYPE="image/jpeg":http://storage.ning.com/topology/rest/1.0/
 file/get/2287224913?profile=original
ATTENDEE;ROLE=REQ-PARTICIPANT;PARTSTAT=ACCEPTED;RSVP=TRUE;CN="Baxter S
 tone":https://bowesandbounds.org/profile/BaxterStone
END:VEVENT
END:VCALENDAR
