BEGIN:VCALENDAR
PRODID:NingEventWidget-v1
VERSION:2.0
METHOD:PUBLISH
BEGIN:VTIMEZONE
TZID:Europe/London
X-LIC-LOCATION:Europe/London
BEGIN:DAYLIGHT
TZOFFSETFROM:+0000
TZOFFSETTO:+0100
TZNAME:BST
DTSTART:19700329T010000
RRULE:FREQ=YEARLY;BYMONTH=3;BYDAY=-1SU
END:DAYLIGHT
BEGIN:STANDARD
TZOFFSETFROM:+0100
TZOFFSETTO:+0000
TZNAME:GMT
DTSTART:19701025T020000
RRULE:FREQ=YEARLY;BYMONTH=10;BYDAY=-1SU
END:STANDARD
END:VTIMEZONE
BEGIN:VEVENT
UID:6278630:Event:122489
DTSTAMP:20260423T172331Z
SUMMARY:MOONLIGHT AT TALKIES BOWES AND BOUNDS
DESCRIPTION:To describe Barry Jenkins’s OSCAR winning “Moonlight
   as a movie about growing up poor, black and gay would be accurate 
 enough. It would also not be wrong to call it a movie about drug abuse
 , mass incarceration and school violence. But those classifications ar
 e also inadequate, so much as to be downright misleading. It would be 
 truer to the mood and spirit of this breathtaking film to say that it
 s about teaching a child to swim, about cooking a meal for an old fr
 iend, about the feeling of sand on skin and the sound of waves on a da
 rkened beach, about first kisses and lingering regrets. Based on the p
 lay “In Moonlight Black Boys Look Blue” by Tarell Alvin McCraney,
  “Moonlight” is both a disarmingly, at times almost unbearably per
 sonal film and an urgent social document, a hard look at American real
 ity and a poem written in light, music and vivid human faces.\n\n\n\n\
 nFor more information visit https://bowesandbounds.org/events/moonligh
 t-at-talkies-bowes-and-bounds-1
DTSTART;TZID=Europe/London:20170512T193000
DTEND;TZID=Europe/London:20170512T220000
CATEGORIES:film, talkies, bowes, and, bounds
LOCATION:BOUNDS GREEN BOWLS AND TENNIS CLUB
WEBSITE:http://talkies.org.uk/event/moonlight/
URL:http://talkies.org.uk/event/moonlight/
CONTACT:
ORGANIZER;CN="David Williamson":https://bowesandbounds.org/profile/Dav
 idWilliamson
ATTACH;FMTTYPE="image/jpeg":http://storage.ning.com/topology/rest/1.0/
 file/get/2287318334?profile=original
ATTENDEE;ROLE=REQ-PARTICIPANT;PARTSTAT=ACCEPTED;RSVP=TRUE;CN="Rosalind
  Kidd":https://bowesandbounds.org/profile/RosalindKidd
ATTENDEE;ROLE=REQ-PARTICIPANT;PARTSTAT=ACCEPTED;RSVP=TRUE;CN="David Wi
 lliamson":https://bowesandbounds.org/profile/DavidWilliamson
END:VEVENT
END:VCALENDAR
