BEGIN:VCALENDAR
PRODID:NingEventWidget-v1
VERSION:2.0
METHOD:PUBLISH
BEGIN:VTIMEZONE
TZID:Europe/London
X-LIC-LOCATION:Europe/London
BEGIN:DAYLIGHT
TZOFFSETFROM:+0000
TZOFFSETTO:+0100
TZNAME:BST
DTSTART:19700329T010000
RRULE:FREQ=YEARLY;BYMONTH=3;BYDAY=-1SU
END:DAYLIGHT
BEGIN:STANDARD
TZOFFSETFROM:+0100
TZOFFSETTO:+0000
TZNAME:GMT
DTSTART:19701025T020000
RRULE:FREQ=YEARLY;BYMONTH=10;BYDAY=-1SU
END:STANDARD
END:VTIMEZONE
BEGIN:VEVENT
UID:6278630:Event:126610
DTSTAMP:20260422T092319Z
SUMMARY:Mosaic Workshop
DESCRIPTION:Come and join us an learn to creative a mosaic home decor 
 item, We use Vintage China to make mosaic pieces.\n\nIntroduce yoursel
 f to the wonderful world of mosaic. Escape your daily routine by comin
 g to our workshop and enjoy some relaxing 'me' time with like minded p
 eople.\n\nFull details on the poster attached - Booking essential\n\nF
 or more information visit https://bowesandbounds.org/events/mosaic-wor
 kshop-2
DTSTART;TZID=Europe/London:20171127T113000
DTEND;TZID=Europe/London:20171127T140000
CATEGORIES:arts, and, crafts
LOCATION:Baskervilles Tea Shop
WEBSITE:
URL:
CONTACT:
ORGANIZER;CN="Eva Jaber":https://bowesandbounds.org/profile/EvaJaber
ATTACH;FMTTYPE="image/jpeg":http://storage.ning.com/topology/rest/1.0/
 file/get/2287321336?profile=original
ATTENDEE;ROLE=REQ-PARTICIPANT;PARTSTAT=ACCEPTED;RSVP=TRUE;CN="Eva Jabe
 r":https://bowesandbounds.org/profile/EvaJaber
END:VEVENT
END:VCALENDAR
