BEGIN:VCALENDAR
PRODID:NingEventWidget-v1
VERSION:2.0
METHOD:PUBLISH
BEGIN:VTIMEZONE
TZID:Europe/London
X-LIC-LOCATION:Europe/London
BEGIN:DAYLIGHT
TZOFFSETFROM:+0000
TZOFFSETTO:+0100
TZNAME:BST
DTSTART:19700329T010000
RRULE:FREQ=YEARLY;BYMONTH=3;BYDAY=-1SU
END:DAYLIGHT
BEGIN:STANDARD
TZOFFSETFROM:+0100
TZOFFSETTO:+0000
TZNAME:GMT
DTSTART:19701025T020000
RRULE:FREQ=YEARLY;BYMONTH=10;BYDAY=-1SU
END:STANDARD
END:VTIMEZONE
BEGIN:VEVENT
UID:6278630:Event:109522
DTSTAMP:20260424T012359Z
SUMMARY:Mother's Day Tea at the Lordship Hub
DESCRIPTION:Treat your beloved this Mother's Day....\nchildren also we
 lcome.... :-)\nMenu:\nSelection of sandwiches\nLemon & raspberry chees
 ecake\nEarl grey sponge with orange blossom buttercream\nDark chocolat
 e and stem ginger tart\n1 x fruit scone                 1 x pl
 ain scone\n1/2 cheese scone with creme fraiche and caramelised onion\n
 Homemade truffles and Glass of Prosecco\nFor Children:\nFinger sandwic
 hes\nMini chocolate cupcakes\nScones\nFruit \nCarton of Juice\n\nBook
 ing Essential:\nkitchen@lordshiphub.org.uk  or ring (0208) 885-5684\n
 £15 per person\n£7 per child\n£5 deposit required in advance....\nT
 wo Sittings available: 1 - 2.45 pm or 3.30 - 5.15 pm\n\nFor more infor
 mation visit https://bowesandbounds.org/events/mother-s-day-tea-at-the
 -lordship-hub
DTSTART;TZID=Europe/London:20160306T130000
DTEND;TZID=Europe/London:20160306T171500
CATEGORIES:"mother's day", celebration
LOCATION:Lordship Hub
WEBSITE:http://www.lordshiphub.org.uk
URL:http://www.lordshiphub.org.uk
CONTACT:(0208) 885-5684
ORGANIZER;CN="Lordship Hub Coop":https://bowesandbounds.org/profile/Lo
 rdshipHubCoop
ATTACH;FMTTYPE="image/jpeg":
ATTENDEE;ROLE=REQ-PARTICIPANT;PARTSTAT=ACCEPTED;RSVP=TRUE;CN="Lordship
  Hub Coop":https://bowesandbounds.org/profile/LordshipHubCoop
END:VEVENT
END:VCALENDAR
