BEGIN:VCALENDAR
PRODID:NingEventWidget-v1
VERSION:2.0
METHOD:PUBLISH
BEGIN:VTIMEZONE
TZID:Europe/London
X-LIC-LOCATION:Europe/London
BEGIN:DAYLIGHT
TZOFFSETFROM:+0000
TZOFFSETTO:+0100
TZNAME:BST
DTSTART:19700329T010000
RRULE:FREQ=YEARLY;BYMONTH=3;BYDAY=-1SU
END:DAYLIGHT
BEGIN:STANDARD
TZOFFSETFROM:+0100
TZOFFSETTO:+0000
TZNAME:GMT
DTSTART:19701025T020000
RRULE:FREQ=YEARLY;BYMONTH=10;BYDAY=-1SU
END:STANDARD
END:VTIMEZONE
BEGIN:VEVENT
UID:6278630:Event:69268
DTSTAMP:20260425T194050Z
SUMMARY:Movers and Shakers
DESCRIPTION:Fabulous baby and toddler class for 0-3 year olds - more i
 nfo book your place here: alexandrapalace.movers-and-shakers.co.uk/boo
 k\nEVERY WEDNESDAY 10am\nNo need to sign up for a term, easy to book a
 nd cancel.\nPuppets, songs, instruments, parachute, bubbles! \nFun an
 d friendly :)\n\nFor more information visit https://bowesandbounds.org
 /events/movers-and-shakers-1
DTSTART;TZID=Europe/London:20131127T100000
DTEND;TZID=Europe/London:20131127T104500
CATEGORIES:baby, "&", toddler, music, and, movement, session
LOCATION:The Children's Hub
WEBSITE:http://alexandrapalace.movers-and-shakers.co.uk/book/hubwe10am
 /
URL:http://alexandrapalace.movers-and-shakers.co.uk/book/hubwe10am/
CONTACT:07817420392
ORGANIZER;CN="Gabi Maddocks":https://bowesandbounds.org/profile/GabiMa
 ddocks252
ATTACH;FMTTYPE="image/jpeg":http://storage.ning.com/topology/rest/1.0/
 file/get/2287256578?profile=original
ATTENDEE;ROLE=REQ-PARTICIPANT;PARTSTAT=ACCEPTED;RSVP=TRUE;CN="Gabi Mad
 docks":https://bowesandbounds.org/profile/GabiMaddocks252
END:VEVENT
END:VCALENDAR
