BEGIN:VCALENDAR
PRODID:NingEventWidget-v1
VERSION:2.0
METHOD:PUBLISH
BEGIN:VTIMEZONE
TZID:Europe/London
X-LIC-LOCATION:Europe/London
BEGIN:DAYLIGHT
TZOFFSETFROM:+0000
TZOFFSETTO:+0100
TZNAME:BST
DTSTART:19700329T010000
RRULE:FREQ=YEARLY;BYMONTH=3;BYDAY=-1SU
END:DAYLIGHT
BEGIN:STANDARD
TZOFFSETFROM:+0100
TZOFFSETTO:+0000
TZNAME:GMT
DTSTART:19701025T020000
RRULE:FREQ=YEARLY;BYMONTH=10;BYDAY=-1SU
END:STANDARD
END:VTIMEZONE
BEGIN:VEVENT
UID:6278630:Event:86426
DTSTAMP:20260422T034639Z
SUMMARY:Mum's Bistro Friday's LIVE!
DESCRIPTION:Mum's Bistro Friday's LIVE!\nLouiza Friday and her full ba
 nd, featuring Jordan Brown-Upright Bass, Mufa-Drums, Paul Handley-Pian
 o, Michael Powell-Alto Sax.\nRepertoire spans decades from 50's 60's 7
 0's 80's 90's and 00's \nJazzy funky souly rocky the set encompasses 
 multi-genres of fantastic quality music.\n\n\n\n\nFor more information
  visit https://bowesandbounds.org/events/mum-s-bistro-friday-s-live
DTSTART;TZID=Europe/London:20141128T200000
DTEND;TZID=Europe/London:20141128T233000
CATEGORIES:"live music", "female singer", music, band
LOCATION:Mum's Bistro
WEBSITE:
URL:
CONTACT:0208 88 0306
ORGANIZER;CN="Music Muswell Ltd":https://bowesandbounds.org/profile/Mu
 sicMuswellLtd
ATTACH;FMTTYPE="image/jpeg":http://storage.ning.com/topology/rest/1.0/
 file/get/2287273471?profile=original
ATTENDEE;ROLE=REQ-PARTICIPANT;PARTSTAT=ACCEPTED;RSVP=TRUE;CN="Music Mu
 swell Ltd":https://bowesandbounds.org/profile/MusicMuswellLtd
END:VEVENT
END:VCALENDAR
