BEGIN:VCALENDAR
PRODID:NingEventWidget-v1
VERSION:2.0
METHOD:PUBLISH
BEGIN:VTIMEZONE
TZID:Europe/London
X-LIC-LOCATION:Europe/London
BEGIN:DAYLIGHT
TZOFFSETFROM:+0000
TZOFFSETTO:+0100
TZNAME:BST
DTSTART:19700329T010000
RRULE:FREQ=YEARLY;BYMONTH=3;BYDAY=-1SU
END:DAYLIGHT
BEGIN:STANDARD
TZOFFSETFROM:+0100
TZOFFSETTO:+0000
TZNAME:GMT
DTSTART:19701025T020000
RRULE:FREQ=YEARLY;BYMONTH=10;BYDAY=-1SU
END:STANDARD
END:VTIMEZONE
BEGIN:VEVENT
UID:6278630:Event:106572
DTSTAMP:20260420T185318Z
SUMMARY:Murder Mystery Night!
DESCRIPTION:Can you create the case of the 'Moselle Mystery'?\nPit you
 r wits against Tottenham's  finest criminal minds.\nSat 30th January 
 7.30 -10 pm\nat the HUB, Lordship Rec, N17 6NU\nTickets £5 + a free d
 rink\n\nFor more information visit https://bowesandbounds.org/events/m
 urder-mystery-night
DTSTART;TZID=Europe/London:20160130T193000
DTEND;TZID=Europe/London:20160130T220000
CATEGORIES:community, social
LOCATION:Lordship Hub
WEBSITE:http://www.lordshiphub.org.uk
URL:http://www.lordshiphub.org.uk
CONTACT:(0208) 885-5684
ORGANIZER;CN="Lordship Hub Coop":https://bowesandbounds.org/profile/Lo
 rdshipHubCoop
ATTACH;FMTTYPE="image/jpeg":http://storage.ning.com/topology/rest/1.0/
 file/get/2287302769?profile=original
ATTENDEE;ROLE=REQ-PARTICIPANT;PARTSTAT=ACCEPTED;RSVP=TRUE;CN="Lordship
  Hub Coop":https://bowesandbounds.org/profile/LordshipHubCoop
END:VEVENT
END:VCALENDAR
