BEGIN:VCALENDAR
PRODID:NingEventWidget-v1
VERSION:2.0
METHOD:PUBLISH
BEGIN:VTIMEZONE
TZID:Europe/London
X-LIC-LOCATION:Europe/London
BEGIN:DAYLIGHT
TZOFFSETFROM:+0000
TZOFFSETTO:+0100
TZNAME:BST
DTSTART:19700329T010000
RRULE:FREQ=YEARLY;BYMONTH=3;BYDAY=-1SU
END:DAYLIGHT
BEGIN:STANDARD
TZOFFSETFROM:+0100
TZOFFSETTO:+0000
TZNAME:GMT
DTSTART:19701025T020000
RRULE:FREQ=YEARLY;BYMONTH=10;BYDAY=-1SU
END:STANDARD
END:VTIMEZONE
BEGIN:VEVENT
UID:6278630:Event:240213
DTSTAMP:20260421T182021Z
SUMMARY:Music at Fatisa
DESCRIPTION:The wonderful guitarist, Carl Orr, is back, along with Kar
 en Lane/vocals and Mark Crooks/Sax.\n\nCome and support live music and
  get to know this great new music venue. Free entry, just have drinks
  in the lounge, or have a meal before the gig.\n\nFor more information
  visit https://bowesandbounds.org/events/music-at-fatisa-12
DTSTART;TZID=Europe/London:20220513T203000
DTEND;TZID=Europe/London:20220513T223000
CATEGORIES:live, music
LOCATION:Fatisa Restaurant and Lounge
WEBSITE:
URL:
CONTACT:0208 888 9008
ORGANIZER;CN=SA:https://bowesandbounds.org/profile/SA
ATTACH;FMTTYPE="image/jpeg":
ATTENDEE;ROLE=REQ-PARTICIPANT;PARTSTAT=ACCEPTED;RSVP=TRUE;CN=SA:https:
 //bowesandbounds.org/profile/SA
END:VEVENT
END:VCALENDAR
