BEGIN:VCALENDAR
PRODID:NingEventWidget-v1
VERSION:2.0
METHOD:PUBLISH
BEGIN:VTIMEZONE
TZID:Europe/London
X-LIC-LOCATION:Europe/London
BEGIN:DAYLIGHT
TZOFFSETFROM:+0000
TZOFFSETTO:+0100
TZNAME:BST
DTSTART:19700329T010000
RRULE:FREQ=YEARLY;BYMONTH=3;BYDAY=-1SU
END:DAYLIGHT
BEGIN:STANDARD
TZOFFSETFROM:+0100
TZOFFSETTO:+0000
TZNAME:GMT
DTSTART:19701025T020000
RRULE:FREQ=YEARLY;BYMONTH=10;BYDAY=-1SU
END:STANDARD
END:VTIMEZONE
BEGIN:VEVENT
UID:6278630:Event:240465
DTSTAMP:20260421T141456Z
SUMMARY:Music at Fatisa
DESCRIPTION:Soulfools are back at Fatisa!\nGuest singer , Parris, will
  be joining the band for a few numbers.\n\nFree entry, but please rese
 rve seats in the lounge.\nsoulfoolsmusic.com\n\nFor more information v
 isit https://bowesandbounds.org/events/music-at-fatisa-15
DTSTART;TZID=Europe/London:20220624T203000
DTEND;TZID=Europe/London:20220624T223000
CATEGORIES:live, music
LOCATION:Fatisa Restaurant and Lounge
WEBSITE:http://fatisarestaurant.com
URL:http://fatisarestaurant.com
CONTACT:0208 888 9008
ORGANIZER;CN=SA:https://bowesandbounds.org/profile/SA
ATTACH;FMTTYPE="image/jpeg":
ATTENDEE;ROLE=REQ-PARTICIPANT;PARTSTAT=ACCEPTED;RSVP=TRUE;CN=SA:https:
 //bowesandbounds.org/profile/SA
END:VEVENT
END:VCALENDAR
