BEGIN:VCALENDAR
PRODID:NingEventWidget-v1
VERSION:2.0
METHOD:PUBLISH
BEGIN:VTIMEZONE
TZID:Europe/London
X-LIC-LOCATION:Europe/London
BEGIN:DAYLIGHT
TZOFFSETFROM:+0000
TZOFFSETTO:+0100
TZNAME:BST
DTSTART:19700329T010000
RRULE:FREQ=YEARLY;BYMONTH=3;BYDAY=-1SU
END:DAYLIGHT
BEGIN:STANDARD
TZOFFSETFROM:+0100
TZOFFSETTO:+0000
TZNAME:GMT
DTSTART:19701025T020000
RRULE:FREQ=YEARLY;BYMONTH=10;BYDAY=-1SU
END:STANDARD
END:VTIMEZONE
BEGIN:VEVENT
UID:6278630:Event:131363
DTSTAMP:20260425T021012Z
SUMMARY:Music at the Ranelagh, N11
DESCRIPTION:Thursdays are Music Nights at the Ranelagh.\n\nThis Thursd
 ay - THE SPICE\n\nIt will be a great evening - come along and support 
 these young musicians!\n\n\nFor more information visit https://bowesan
 dbounds.org/events/music-at-the-ranelagh-n11
DTSTART;TZID=Europe/London:20180524T210000
DTEND;TZID=Europe/London:20180524T230000
CATEGORIES:live, music
LOCATION:The Ranelagh, N11
WEBSITE:
URL:
CONTACT:
ORGANIZER;CN=SA:https://bowesandbounds.org/profile/SA
ATTACH;FMTTYPE="image/jpeg":
ATTENDEE;ROLE=REQ-PARTICIPANT;PARTSTAT=ACCEPTED;RSVP=TRUE;CN="Andie Ph
 illips":https://bowesandbounds.org/profile/AndreaPhillips
ATTENDEE;ROLE=REQ-PARTICIPANT;PARTSTAT=ACCEPTED;RSVP=TRUE;CN=SA:https:
 //bowesandbounds.org/profile/SA
END:VEVENT
END:VCALENDAR
