BEGIN:VCALENDAR
PRODID:NingEventWidget-v1
VERSION:2.0
METHOD:PUBLISH
BEGIN:VTIMEZONE
TZID:Europe/London
X-LIC-LOCATION:Europe/London
BEGIN:DAYLIGHT
TZOFFSETFROM:+0000
TZOFFSETTO:+0100
TZNAME:BST
DTSTART:19700329T010000
RRULE:FREQ=YEARLY;BYMONTH=3;BYDAY=-1SU
END:DAYLIGHT
BEGIN:STANDARD
TZOFFSETFROM:+0100
TZOFFSETTO:+0000
TZNAME:GMT
DTSTART:19701025T020000
RRULE:FREQ=YEARLY;BYMONTH=10;BYDAY=-1SU
END:STANDARD
END:VTIMEZONE
BEGIN:VEVENT
UID:6278630:Event:132823
DTSTAMP:20260424T134612Z
SUMMARY:MUSIC AT THE RANELAGH October 11th
DESCRIPTION:\nTomorrow night - the Deicola Neves Band\n\nA lively even
 ing of Latin music!\nCome and hear this wonderful group of Brazilian m
 usicians.\n\nFor more information visit https://bowesandbounds.org/eve
 nts/music-at-the-ranelagh-october-11th-1
DTSTART;TZID=Europe/London:20181011T210000
DTEND;TZID=Europe/London:20181011T230000
CATEGORIES:live, music
LOCATION:The Ranelagh N11
WEBSITE:
URL:
CONTACT:
ORGANIZER;CN=SA:https://bowesandbounds.org/profile/SA
ATTACH;FMTTYPE="image/jpeg":
ATTENDEE;ROLE=REQ-PARTICIPANT;PARTSTAT=ACCEPTED;RSVP=TRUE;CN=SA:https:
 //bowesandbounds.org/profile/SA
END:VEVENT
END:VCALENDAR
