BEGIN:VCALENDAR
PRODID:NingEventWidget-v1
VERSION:2.0
METHOD:PUBLISH
BEGIN:VTIMEZONE
TZID:Europe/London
X-LIC-LOCATION:Europe/London
BEGIN:DAYLIGHT
TZOFFSETFROM:+0000
TZOFFSETTO:+0100
TZNAME:BST
DTSTART:19700329T010000
RRULE:FREQ=YEARLY;BYMONTH=3;BYDAY=-1SU
END:DAYLIGHT
BEGIN:STANDARD
TZOFFSETFROM:+0100
TZOFFSETTO:+0000
TZNAME:GMT
DTSTART:19701025T020000
RRULE:FREQ=YEARLY;BYMONTH=10;BYDAY=-1SU
END:STANDARD
END:VTIMEZONE
BEGIN:VEVENT
UID:6278630:Event:132484
DTSTAMP:20260424T144321Z
SUMMARY:Music at the Ranelagh Sept 13th
DESCRIPTION:Calling all Folk Music Fans!\n\nPETE MORTON will be appear
 ing at the Ranelagh on Sept 13th.\nDynamic and compelling with a remar
 kable singing voice, Pete has huge stage presence and a repertoire inf
 used with hits you’ll sing along to, as well as his own unique folk-
 tinged compositions.\n”Not only impressive, but a revelation” The 
 Guardian\n\nSee you there!!\n\n\nFor more information visit https://bo
 wesandbounds.org/events/music-at-the-ranelagh-sept-13th
DTSTART;TZID=Europe/London:20180913T210000
DTEND;TZID=Europe/London:20180913T230000
CATEGORIES:live, music
LOCATION:The Ranelagh
WEBSITE:
URL:
CONTACT:
ORGANIZER;CN=SA:https://bowesandbounds.org/profile/SA
ATTACH;FMTTYPE="image/jpeg":
ATTENDEE;ROLE=REQ-PARTICIPANT;PARTSTAT=ACCEPTED;RSVP=TRUE;CN=SA:https:
 //bowesandbounds.org/profile/SA
END:VEVENT
END:VCALENDAR
