BEGIN:VCALENDAR
PRODID:NingEventWidget-v1
VERSION:2.0
METHOD:PUBLISH
BEGIN:VTIMEZONE
TZID:Europe/London
X-LIC-LOCATION:Europe/London
BEGIN:DAYLIGHT
TZOFFSETFROM:+0000
TZOFFSETTO:+0100
TZNAME:BST
DTSTART:19700329T010000
RRULE:FREQ=YEARLY;BYMONTH=3;BYDAY=-1SU
END:DAYLIGHT
BEGIN:STANDARD
TZOFFSETFROM:+0100
TZOFFSETTO:+0000
TZNAME:GMT
DTSTART:19701025T020000
RRULE:FREQ=YEARLY;BYMONTH=10;BYDAY=-1SU
END:STANDARD
END:VTIMEZONE
BEGIN:VEVENT
UID:6278630:Event:132608
DTSTAMP:20260424T152926Z
SUMMARY:Music At The Ranelagh - Sept 6th
DESCRIPTION:\nSOULFOOLS will be back at the Ranelagh on Sept 6th.\nFea
 turing guest singer - Selina\nHope to see you there!\n\nFor more infor
 mation visit https://bowesandbounds.org/events/music-at-the-ranelagh-s
 ept-6th
DTSTART;TZID=Europe/London:20180906T210000
DTEND;TZID=Europe/London:20180906T230000
CATEGORIES:live, music
LOCATION:The RanelaghN11
WEBSITE:
URL:
CONTACT:
ORGANIZER;CN=SA:https://bowesandbounds.org/profile/SA
ATTACH;FMTTYPE="image/jpeg":
ATTENDEE;ROLE=REQ-PARTICIPANT;PARTSTAT=ACCEPTED;RSVP=TRUE;CN=SA:https:
 //bowesandbounds.org/profile/SA
END:VEVENT
END:VCALENDAR
