BEGIN:VCALENDAR
PRODID:NingEventWidget-v1
VERSION:2.0
METHOD:PUBLISH
BEGIN:VTIMEZONE
TZID:Europe/London
X-LIC-LOCATION:Europe/London
BEGIN:DAYLIGHT
TZOFFSETFROM:+0000
TZOFFSETTO:+0100
TZNAME:BST
DTSTART:19700329T010000
RRULE:FREQ=YEARLY;BYMONTH=3;BYDAY=-1SU
END:DAYLIGHT
BEGIN:STANDARD
TZOFFSETFROM:+0100
TZOFFSETTO:+0000
TZNAME:GMT
DTSTART:19701025T020000
RRULE:FREQ=YEARLY;BYMONTH=10;BYDAY=-1SU
END:STANDARD
END:VTIMEZONE
BEGIN:VEVENT
UID:6278630:Event:244759
DTSTAMP:20260420T102628Z
SUMMARY:Music in the Gardens
DESCRIPTION:Music in the Gardens returns to Muswell Hill Methodist Chu
 rch on Pages Lane every Sunday in July. These events are free and ever
 yone is welcome. No booking required.\n\nSunday 9 July – Life and Mi
 ssion Choir\nSunday 16 July – London Metropolitan Brass\nSunday 23 J
 uly – English Jazz Orchestra\nSunday 30 July – Rock in the Gardens
 \n\nGates open at 2pm and music starts at 3pm. If it’s wet we just m
 ove inside.\nRefreshments will be on sale and you’re welcome to brin
 g a picnic. Toilets, including accessible toilets, and baby change are
  available. Sorry: no alcohol or dogs.\n\n\nFor more information visit
  https://bowesandbounds.org/events/music-in-the-gardens-22
DTSTART;TZID=Europe/London:20230709T140000
DTEND;TZID=Europe/London:20230709T170000
CATEGORIES:family, free, music, concert
LOCATION:Muswell Hill Methodist Church, Pages Lane, N10
WEBSITE:https://mhmc.org.uk/
URL:https://mhmc.org.uk/
CONTACT:020 8365 2466
ORGANIZER;CN="Penny Woods":https://bowesandbounds.org/profile/PennyWoo
 ds
ATTACH;FMTTYPE="image/jpeg":https://storage.ning.com/topology/rest/1.0
 /file/get/12127632697?profile=original
ATTENDEE;ROLE=REQ-PARTICIPANT;PARTSTAT=ACCEPTED;RSVP=TRUE;CN="Penny Wo
 ods":https://bowesandbounds.org/profile/PennyWoods
END:VEVENT
END:VCALENDAR
