BEGIN:VCALENDAR
PRODID:NingEventWidget-v1
VERSION:2.0
METHOD:PUBLISH
BEGIN:VTIMEZONE
TZID:Europe/London
X-LIC-LOCATION:Europe/London
BEGIN:DAYLIGHT
TZOFFSETFROM:+0000
TZOFFSETTO:+0100
TZNAME:BST
DTSTART:19700329T010000
RRULE:FREQ=YEARLY;BYMONTH=3;BYDAY=-1SU
END:DAYLIGHT
BEGIN:STANDARD
TZOFFSETFROM:+0100
TZOFFSETTO:+0000
TZNAME:GMT
DTSTART:19701025T020000
RRULE:FREQ=YEARLY;BYMONTH=10;BYDAY=-1SU
END:STANDARD
END:VTIMEZONE
BEGIN:VEVENT
UID:6278630:Event:251034
DTSTAMP:20260421T231523Z
SUMMARY:Music in the Gardens: Ceilidh with the Red River Band
DESCRIPTION:Head to Muswell Hill Methodist Church for Music in the Gar
 dens on 29th June and every Sunday in July.\nWe kick off this Sunday w
 ith a ceilidh performed by the Red River Band.\nWe’re also featuring
  performances from Ruth Stobbs, Joel Stobbs, Catherine Simms, Act Out 
 Performing Arts, BlackDogHat and Collaboration Choir across the weeks.
 \nGardens open from 2pm, with music starting around 3pm. Entrance is f
 ree, with refreshments available for a small price, and there is a pla
 y area for young children. Picnics welcome but please no alcohol or do
 gs.\n\nFor more information visit https://bowesandbounds.org/events/mu
 sic-in-the-gardens-ceilidh-with-the-red-river-band
DTSTART;TZID=Europe/London:20250629T140000
DTEND;TZID=Europe/London:20250629T170000
CATEGORIES:music, free, family, community
LOCATION:Muswell Hill Methodist Church
WEBSITE:https://mhmc.org.uk/
URL:https://mhmc.org.uk/
CONTACT:020 8365 2466
ORGANIZER;CN="Penny Woods":https://bowesandbounds.org/profile/PennyWoo
 ds
ATTACH;FMTTYPE="image/jpeg":https://storage.ning.com/topology/rest/1.0
 /file/get/13590936259?profile=original
ATTENDEE;ROLE=REQ-PARTICIPANT;PARTSTAT=ACCEPTED;RSVP=TRUE;CN="Penny Wo
 ods":https://bowesandbounds.org/profile/PennyWoods
END:VEVENT
END:VCALENDAR
