BEGIN:VCALENDAR
PRODID:NingEventWidget-v1
VERSION:2.0
METHOD:PUBLISH
BEGIN:VTIMEZONE
TZID:Europe/London
X-LIC-LOCATION:Europe/London
BEGIN:DAYLIGHT
TZOFFSETFROM:+0000
TZOFFSETTO:+0100
TZNAME:BST
DTSTART:19700329T010000
RRULE:FREQ=YEARLY;BYMONTH=3;BYDAY=-1SU
END:DAYLIGHT
BEGIN:STANDARD
TZOFFSETFROM:+0100
TZOFFSETTO:+0000
TZNAME:GMT
DTSTART:19701025T020000
RRULE:FREQ=YEARLY;BYMONTH=10;BYDAY=-1SU
END:STANDARD
END:VTIMEZONE
BEGIN:VEVENT
UID:6278630:Event:251042
DTSTAMP:20260419T193122Z
SUMMARY:Music in the Gardens: London Metropolitan Brass
DESCRIPTION:Head to Muswell Hill Methodist Church, N10 1PP, for Music 
 in the Gardens every Sunday in July.\nFor our final Sunday we’re joi
 ned by London Metropolitan Brass.\nAlso featuring performances from Ru
 th Stobbs, Joel Stobbs, Catherine Simms, Act Out Performing Arts, Blac
 kDogHat and Collaboration Choir across the weeks.\nGardens open from 2
 pm, with music starting around 3pm. Entrance is free, with refreshment
 s available for a small price, and there is a play area for young chil
 dren. Picnics welcome but sorry no alcohol or dogs.\n\nFor more inform
 ation visit https://bowesandbounds.org/events/music-in-the-gardens-lon
 don-metropolitan-brass
DTSTART;TZID=Europe/London:20250727T140000
DTEND;TZID=Europe/London:20250727T170000
CATEGORIES:music, free, family, community
LOCATION:Muswell Hill Methodist Church
WEBSITE:https://mhmc.org.uk/
URL:https://mhmc.org.uk/
CONTACT:020 8365 2466
ORGANIZER;CN="Penny Woods":https://bowesandbounds.org/profile/PennyWoo
 ds
ATTACH;FMTTYPE="image/jpeg":https://storage.ning.com/topology/rest/1.0
 /file/get/13590936259?profile=original
ATTENDEE;ROLE=REQ-PARTICIPANT;PARTSTAT=ACCEPTED;RSVP=TRUE;CN="Penny Wo
 ods":https://bowesandbounds.org/profile/PennyWoods
END:VEVENT
END:VCALENDAR
