BEGIN:VCALENDAR
PRODID:NingEventWidget-v1
VERSION:2.0
METHOD:PUBLISH
BEGIN:VTIMEZONE
TZID:Europe/London
X-LIC-LOCATION:Europe/London
BEGIN:DAYLIGHT
TZOFFSETFROM:+0000
TZOFFSETTO:+0100
TZNAME:BST
DTSTART:19700329T010000
RRULE:FREQ=YEARLY;BYMONTH=3;BYDAY=-1SU
END:DAYLIGHT
BEGIN:STANDARD
TZOFFSETFROM:+0100
TZOFFSETTO:+0000
TZNAME:GMT
DTSTART:19701025T020000
RRULE:FREQ=YEARLY;BYMONTH=10;BYDAY=-1SU
END:STANDARD
END:VTIMEZONE
BEGIN:VEVENT
UID:6278630:Event:103984
DTSTAMP:20260420T033939Z
SUMMARY:Musical Bingo and Disco - ALL WELCOME!
DESCRIPTION:The Friends of Bowes presents its first Musical Bingo and 
 Disco night.\nWhat is musical bingo? It's like normal bingo, but inste
 ad of shouting out numbers we play songs. . Complete 1, 2, 3 lines or 
 a Full House to win some amazing (and silly!) prizes.\nSo get your dan
 cing shoes on and reserve your ticket on a first come first serve basi
 s. Tickets available on the door!\n\nFor more information visit https:
 //bowesandbounds.org/events/musical-bingo-and-disco-all-welcome-1
DTSTART;TZID=Europe/London:20151113T193000
DTEND;TZID=Europe/London:20151113T230000
CATEGORIES:fundraiser
LOCATION:Bowes Primary school
WEBSITE:
URL:
CONTACT:
ORGANIZER;CN="Keeren shah":https://bowesandbounds.org/profile/Keerensh
 ah
ATTACH;FMTTYPE="image/jpeg":http://storage.ning.com/topology/rest/1.0/
 file/get/2287300761?profile=original
ATTENDEE;ROLE=REQ-PARTICIPANT;PARTSTAT=ACCEPTED;RSVP=TRUE;CN="Keeren s
 hah":https://bowesandbounds.org/profile/Keerenshah
END:VEVENT
END:VCALENDAR
