BEGIN:VCALENDAR
PRODID:NingEventWidget-v1
VERSION:2.0
METHOD:PUBLISH
BEGIN:VTIMEZONE
TZID:Europe/London
X-LIC-LOCATION:Europe/London
BEGIN:DAYLIGHT
TZOFFSETFROM:+0000
TZOFFSETTO:+0100
TZNAME:BST
DTSTART:19700329T010000
RRULE:FREQ=YEARLY;BYMONTH=3;BYDAY=-1SU
END:DAYLIGHT
BEGIN:STANDARD
TZOFFSETFROM:+0100
TZOFFSETTO:+0000
TZNAME:GMT
DTSTART:19701025T020000
RRULE:FREQ=YEARLY;BYMONTH=10;BYDAY=-1SU
END:STANDARD
END:VTIMEZONE
BEGIN:VEVENT
UID:6278630:Event:115519
DTSTAMP:20260422T143945Z
SUMMARY:Musical Evening with Andy Kilmartin & Friends
DESCRIPTION:An Evening of Music from around the world.  Free entry wi
 th a good value Mediterranean menu.  December's show was a full house
 , so call and reserve your table now to avoid disappointment.\n\nFor m
 ore information visit https://bowesandbounds.org/events/musical-evenin
 g-with-andy-kilmartin-friends
DTSTART;TZID=Europe/London:20160714T200000
DTEND;TZID=Europe/London:20160714T230000
CATEGORIES:musical, evening
LOCATION:Mum's Bistro
WEBSITE:http://www.mums-bistro.co.uk/
URL:http://www.mums-bistro.co.uk/
CONTACT:
ORGANIZER;CN="Ursula Campbell":https://bowesandbounds.org/profile/Ursu
 laCampbell994
ATTACH;FMTTYPE="image/jpeg":http://storage.ning.com/topology/rest/1.0/
 file/get/2287311699?profile=original
ATTENDEE;ROLE=REQ-PARTICIPANT;PARTSTAT=ACCEPTED;RSVP=TRUE;CN="Ursula C
 ampbell":https://bowesandbounds.org/profile/UrsulaCampbell994
END:VEVENT
END:VCALENDAR
